BEGIN:VCALENDAR
VERSION:2.0
PRODID:-//Empower House - ECPv6.15.18//NONSGML v1.0//EN
CALSCALE:GREGORIAN
METHOD:PUBLISH
X-ORIGINAL-URL:https://empowerhousesa.org
X-WR-CALDESC:Events for Empower House
REFRESH-INTERVAL;VALUE=DURATION:PT1H
X-Robots-Tag:noindex
X-PUBLISHED-TTL:PT1H
BEGIN:VTIMEZONE
TZID:America/Chicago
BEGIN:DAYLIGHT
TZOFFSETFROM:-0600
TZOFFSETTO:-0500
TZNAME:CDT
DTSTART:20250309T080000
END:DAYLIGHT
BEGIN:STANDARD
TZOFFSETFROM:-0500
TZOFFSETTO:-0600
TZNAME:CST
DTSTART:20251102T070000
END:STANDARD
BEGIN:DAYLIGHT
TZOFFSETFROM:-0600
TZOFFSETTO:-0500
TZNAME:CDT
DTSTART:20260308T080000
END:DAYLIGHT
BEGIN:STANDARD
TZOFFSETFROM:-0500
TZOFFSETTO:-0600
TZNAME:CST
DTSTART:20261101T070000
END:STANDARD
BEGIN:DAYLIGHT
TZOFFSETFROM:-0600
TZOFFSETTO:-0500
TZNAME:CDT
DTSTART:20270314T080000
END:DAYLIGHT
BEGIN:STANDARD
TZOFFSETFROM:-0500
TZOFFSETTO:-0600
TZNAME:CST
DTSTART:20271107T070000
END:STANDARD
END:VTIMEZONE
BEGIN:VEVENT
DTSTART;TZID=America/Chicago:20260421T100000
DTEND;TZID=America/Chicago:20260421T110000
DTSTAMP:20260422T131049
CREATED:20260324T231708Z
LAST-MODIFIED:20260324T231708Z
UID:10002406-1776765600-1776769200@empowerhousesa.org
SUMMARY:Digital Skills Tuesday - April Schedule
DESCRIPTION:07 Apr 2026\nIntro to Google Docs Part 1\n10:00am\n\n\n14 Apr 2026\nIntro to Google Docs Part 2\n10:00am\n\n\n21 Apr 2026\nIntro to Google Sheet Part 1\n10:00am\n\n\n28 Apr 2026\nIntro to Google Sheets Part 2\n10:00am\n\n\n\n\n(In-Person) \nRegistration Link: https://form.jotform.com/251551719080152
URL:https://empowerhousesa.org/event/digital-skills-tuesday-april-schedule/2026-04-21/
LOCATION:200 Donaldson Ave\, San Antonio\, TX 78201\, 200 Donaldson Ave.\, San Antonio\, TX\, 78201\, United States
ATTACH;FMTTYPE=image/jpeg:https://empowerhousesa.org/wp-content/uploads/2026/03/Empower-House-Digital-Skills-Tuesday-April-2026-Schedule.jpg
END:VEVENT
BEGIN:VEVENT
DTSTART;TZID=America/Chicago:20260417T100000
DTEND;TZID=America/Chicago:20260417T230000
DTSTAMP:20260422T131049
CREATED:20260324T235121Z
LAST-MODIFIED:20260324T235121Z
UID:10002420-1776420000-1776466800@empowerhousesa.org
SUMMARY:Financially Fit Friday - April Schedule
DESCRIPTION:Apr 3\, 2026\nIntro to Credit\n10am\n200 Donaldson Ave\n\n\nApr 10\, 2026\nBudget Strategies in 2026\n10am\n200 Donaldson Ave.\n\n\nApr 17\, 2026\n50/30/20 Budget Rule\n10am\n200 Donaldson Ave.\n\n\nApr 24\, 2026\nOvercoming Financial Barries\n2:00pm\nVirtual\n\n\n\nRegistration Link: https://form.jotform.com/251552802967160
URL:https://empowerhousesa.org/event/financially-fit-friday-april-schedule/2026-04-17/
LOCATION:200 Donaldson Ave\, San Antonio\, TX 78201\, 200 Donaldson Ave.\, San Antonio\, TX\, 78201\, United States
ATTACH;FMTTYPE=image/jpeg:https://empowerhousesa.org/wp-content/uploads/2026/03/Empower-House-Financially-Fit-Friday-April-2026-Schedule.jpg
END:VEVENT
BEGIN:VEVENT
DTSTART;TZID=America/Chicago:20260416T100000
DTEND;TZID=America/Chicago:20260416T110000
DTSTAMP:20260422T131049
CREATED:20260324T233550Z
LAST-MODIFIED:20260330T233512Z
UID:10002415-1776333600-1776337200@empowerhousesa.org
SUMMARY:Technology Thursday - April Schedule
DESCRIPTION:(In-person) \n\n\n\n\n\n\n\n\n02 Apr 2026\nIntro to ChapGPT\n10am – 11am\n\n\n09 Apr 2026\nIntro to Gemini AI\n10am – 11am\n\n\n16 Apr 2026\nIntro to Claude AI\n10am – 11am\n\n\n23 Apr 2026\nIntro to Perplexity AI\n10am – 11am\n\n\n30 Apr 2026\nIntro to Microsoft Copilot\n10am – 11am\n\n\n\nRegistration Link: https://form.jotform.com/251444758972166
URL:https://empowerhousesa.org/event/technology-thursday-april-schedule/2026-04-16/
LOCATION:200 Donaldson Ave\, San Antonio\, TX 78201\, 200 Donaldson Ave.\, San Antonio\, TX\, 78201\, United States
ATTACH;FMTTYPE=image/jpeg:https://empowerhousesa.org/wp-content/uploads/2026/03/Empower-House-Technology-Thursday-April-2026-Schedule-1.jpg
END:VEVENT
BEGIN:VEVENT
DTSTART;TZID=America/Chicago:20260414T100000
DTEND;TZID=America/Chicago:20260414T110000
DTSTAMP:20260422T131049
CREATED:20260324T231708Z
LAST-MODIFIED:20260324T231708Z
UID:10002405-1776160800-1776164400@empowerhousesa.org
SUMMARY:Digital Skills Tuesday - April Schedule
DESCRIPTION:07 Apr 2026\nIntro to Google Docs Part 1\n10:00am\n\n\n14 Apr 2026\nIntro to Google Docs Part 2\n10:00am\n\n\n21 Apr 2026\nIntro to Google Sheet Part 1\n10:00am\n\n\n28 Apr 2026\nIntro to Google Sheets Part 2\n10:00am\n\n\n\n\n(In-Person) \nRegistration Link: https://form.jotform.com/251551719080152
URL:https://empowerhousesa.org/event/digital-skills-tuesday-april-schedule/2026-04-14/
LOCATION:200 Donaldson Ave\, San Antonio\, TX 78201\, 200 Donaldson Ave.\, San Antonio\, TX\, 78201\, United States
ATTACH;FMTTYPE=image/jpeg:https://empowerhousesa.org/wp-content/uploads/2026/03/Empower-House-Digital-Skills-Tuesday-April-2026-Schedule.jpg
END:VEVENT
BEGIN:VEVENT
DTSTART;TZID=America/Chicago:20260410T100000
DTEND;TZID=America/Chicago:20260410T230000
DTSTAMP:20260422T131049
CREATED:20260324T235121Z
LAST-MODIFIED:20260324T235121Z
UID:10002419-1775815200-1775862000@empowerhousesa.org
SUMMARY:Financially Fit Friday - April Schedule
DESCRIPTION:Apr 3\, 2026\nIntro to Credit\n10am\n200 Donaldson Ave\n\n\nApr 10\, 2026\nBudget Strategies in 2026\n10am\n200 Donaldson Ave.\n\n\nApr 17\, 2026\n50/30/20 Budget Rule\n10am\n200 Donaldson Ave.\n\n\nApr 24\, 2026\nOvercoming Financial Barries\n2:00pm\nVirtual\n\n\n\nRegistration Link: https://form.jotform.com/251552802967160
URL:https://empowerhousesa.org/event/financially-fit-friday-april-schedule/2026-04-10/
LOCATION:200 Donaldson Ave\, San Antonio\, TX 78201\, 200 Donaldson Ave.\, San Antonio\, TX\, 78201\, United States
ATTACH;FMTTYPE=image/jpeg:https://empowerhousesa.org/wp-content/uploads/2026/03/Empower-House-Financially-Fit-Friday-April-2026-Schedule.jpg
END:VEVENT
BEGIN:VEVENT
DTSTART;TZID=America/Chicago:20260409T100000
DTEND;TZID=America/Chicago:20260409T110000
DTSTAMP:20260422T131049
CREATED:20260324T233550Z
LAST-MODIFIED:20260330T233512Z
UID:10002414-1775728800-1775732400@empowerhousesa.org
SUMMARY:Technology Thursday - April Schedule
DESCRIPTION:(In-person) \n\n\n\n\n\n\n\n\n02 Apr 2026\nIntro to ChapGPT\n10am – 11am\n\n\n09 Apr 2026\nIntro to Gemini AI\n10am – 11am\n\n\n16 Apr 2026\nIntro to Claude AI\n10am – 11am\n\n\n23 Apr 2026\nIntro to Perplexity AI\n10am – 11am\n\n\n30 Apr 2026\nIntro to Microsoft Copilot\n10am – 11am\n\n\n\nRegistration Link: https://form.jotform.com/251444758972166
URL:https://empowerhousesa.org/event/technology-thursday-april-schedule/2026-04-09/
LOCATION:200 Donaldson Ave\, San Antonio\, TX 78201\, 200 Donaldson Ave.\, San Antonio\, TX\, 78201\, United States
ATTACH;FMTTYPE=image/jpeg:https://empowerhousesa.org/wp-content/uploads/2026/03/Empower-House-Technology-Thursday-April-2026-Schedule-1.jpg
END:VEVENT
BEGIN:VEVENT
DTSTART;TZID=America/Chicago:20260407T100000
DTEND;TZID=America/Chicago:20260407T110000
DTSTAMP:20260422T131049
CREATED:20260324T231708Z
LAST-MODIFIED:20260324T231708Z
UID:10002404-1775556000-1775559600@empowerhousesa.org
SUMMARY:Digital Skills Tuesday - April Schedule
DESCRIPTION:07 Apr 2026\nIntro to Google Docs Part 1\n10:00am\n\n\n14 Apr 2026\nIntro to Google Docs Part 2\n10:00am\n\n\n21 Apr 2026\nIntro to Google Sheet Part 1\n10:00am\n\n\n28 Apr 2026\nIntro to Google Sheets Part 2\n10:00am\n\n\n\n\n(In-Person) \nRegistration Link: https://form.jotform.com/251551719080152
URL:https://empowerhousesa.org/event/digital-skills-tuesday-april-schedule/2026-04-07/
LOCATION:200 Donaldson Ave\, San Antonio\, TX 78201\, 200 Donaldson Ave.\, San Antonio\, TX\, 78201\, United States
ATTACH;FMTTYPE=image/jpeg:https://empowerhousesa.org/wp-content/uploads/2026/03/Empower-House-Digital-Skills-Tuesday-April-2026-Schedule.jpg
END:VEVENT
BEGIN:VEVENT
DTSTART;TZID=America/Chicago:20260403T100000
DTEND;TZID=America/Chicago:20260403T230000
DTSTAMP:20260422T131049
CREATED:20260324T235121Z
LAST-MODIFIED:20260324T235121Z
UID:10002418-1775210400-1775257200@empowerhousesa.org
SUMMARY:Financially Fit Friday - April Schedule
DESCRIPTION:Apr 3\, 2026\nIntro to Credit\n10am\n200 Donaldson Ave\n\n\nApr 10\, 2026\nBudget Strategies in 2026\n10am\n200 Donaldson Ave.\n\n\nApr 17\, 2026\n50/30/20 Budget Rule\n10am\n200 Donaldson Ave.\n\n\nApr 24\, 2026\nOvercoming Financial Barries\n2:00pm\nVirtual\n\n\n\nRegistration Link: https://form.jotform.com/251552802967160
URL:https://empowerhousesa.org/event/financially-fit-friday-april-schedule/2026-04-03/
LOCATION:200 Donaldson Ave\, San Antonio\, TX 78201\, 200 Donaldson Ave.\, San Antonio\, TX\, 78201\, United States
ATTACH;FMTTYPE=image/jpeg:https://empowerhousesa.org/wp-content/uploads/2026/03/Empower-House-Financially-Fit-Friday-April-2026-Schedule.jpg
END:VEVENT
BEGIN:VEVENT
DTSTART;TZID=America/Chicago:20260402T150000
DTEND;TZID=America/Chicago:20260402T160000
DTSTAMP:20260422T131049
CREATED:20260220T210022Z
LAST-MODIFIED:20260220T210022Z
UID:10002390-1775142000-1775145600@empowerhousesa.org
SUMMARY:Computer Essentials
DESCRIPTION:5 week course\nDate: March 5\, 12\, 19\, 26 & April 2\nTime: 3pm – 4pm (in-person)\nLink: https://www.jotform.com/app/240814212349148/260434635993162
URL:https://empowerhousesa.org/event/computer-essentials/2026-04-02/
LOCATION:200 Donaldson Ave\, San Antonio\, TX 78201\, 200 Donaldson Ave.\, San Antonio\, TX\, 78201\, United States
ATTACH;FMTTYPE=image/jpeg:https://empowerhousesa.org/wp-content/uploads/2026/02/Empower-House-OATS-Computer-Essentials-Workshop.jpg
END:VEVENT
BEGIN:VEVENT
DTSTART;TZID=America/Chicago:20260402T100000
DTEND;TZID=America/Chicago:20260402T110000
DTSTAMP:20260422T131049
CREATED:20260324T233550Z
LAST-MODIFIED:20260330T233512Z
UID:10002413-1775124000-1775127600@empowerhousesa.org
SUMMARY:Technology Thursday - April Schedule
DESCRIPTION:(In-person) \n\n\n\n\n\n\n\n\n02 Apr 2026\nIntro to ChapGPT\n10am – 11am\n\n\n09 Apr 2026\nIntro to Gemini AI\n10am – 11am\n\n\n16 Apr 2026\nIntro to Claude AI\n10am – 11am\n\n\n23 Apr 2026\nIntro to Perplexity AI\n10am – 11am\n\n\n30 Apr 2026\nIntro to Microsoft Copilot\n10am – 11am\n\n\n\nRegistration Link: https://form.jotform.com/251444758972166
URL:https://empowerhousesa.org/event/technology-thursday-april-schedule/2026-04-02/
LOCATION:200 Donaldson Ave\, San Antonio\, TX 78201\, 200 Donaldson Ave.\, San Antonio\, TX\, 78201\, United States
ATTACH;FMTTYPE=image/jpeg:https://empowerhousesa.org/wp-content/uploads/2026/03/Empower-House-Technology-Thursday-April-2026-Schedule-1.jpg
END:VEVENT
BEGIN:VEVENT
DTSTART;TZID=America/Chicago:20260327T100000
DTEND;TZID=America/Chicago:20260327T110000
DTSTAMP:20260422T131049
CREATED:20260220T211052Z
LAST-MODIFIED:20260220T211053Z
UID:10002398-1774605600-1774609200@empowerhousesa.org
SUMMARY:Financially Fit Friday
DESCRIPTION:Financially Fit Friday\nSavings and Emergency Funds – March 6\, 2026 – 6:30pm (Virtual)\nSavings and Emergency Funds – March 13\, 2026 – 10am (in-person)\nBudgeting and 52 Week Saving Challenge – March 20\, 2026 6:30pm (Virtual)\nBudgeting and 52 Week Saving Challenge – March 27\, 2026 – 10am (in-person)\nLink: https://www.jotform.com/app/240814212349148/251552802967160
URL:https://empowerhousesa.org/event/financially-fit-friday-3/2026-03-27/
LOCATION:200 Donaldson Ave\, San Antonio\, TX 78201\, 200 Donaldson Ave.\, San Antonio\, TX\, 78201\, United States
ATTACH;FMTTYPE=image/jpeg:https://empowerhousesa.org/wp-content/uploads/2026/02/Empower-House-Financially-Fit-Friday-March-2026-Schedule.jpg
END:VEVENT
BEGIN:VEVENT
DTSTART;TZID=America/Chicago:20260326T150000
DTEND;TZID=America/Chicago:20260326T160000
DTSTAMP:20260422T131049
CREATED:20260220T210022Z
LAST-MODIFIED:20260220T210022Z
UID:10002389-1774537200-1774540800@empowerhousesa.org
SUMMARY:Computer Essentials
DESCRIPTION:5 week course\nDate: March 5\, 12\, 19\, 26 & April 2\nTime: 3pm – 4pm (in-person)\nLink: https://www.jotform.com/app/240814212349148/260434635993162
URL:https://empowerhousesa.org/event/computer-essentials/2026-03-26/
LOCATION:200 Donaldson Ave\, San Antonio\, TX 78201\, 200 Donaldson Ave.\, San Antonio\, TX\, 78201\, United States
ATTACH;FMTTYPE=image/jpeg:https://empowerhousesa.org/wp-content/uploads/2026/02/Empower-House-OATS-Computer-Essentials-Workshop.jpg
END:VEVENT
BEGIN:VEVENT
DTSTART;TZID=America/Chicago:20260324T133000
DTEND;TZID=America/Chicago:20260324T143000
DTSTAMP:20260422T131049
CREATED:20260220T202917Z
LAST-MODIFIED:20260220T202917Z
UID:10002379-1774359000-1774362600@empowerhousesa.org
SUMMARY:Digital Skills Tuesday
DESCRIPTION:Intro to Gmail – March 3\, 2026 – 1:30pm (in-person)\nIntro to Gmail – March 17\, 2026 – 6:30pm  (Virtual)\nInternet Safety – March 24\, 2026 – 1:30pm  (in-person)\nInternet Safety – March 31\, 2026 – 6:30pm (Virtual)\nLink: https://www.jotform.com/app/240814212349148/251551719080152
URL:https://empowerhousesa.org/event/digital-skills-tuesday-4/2026-03-24/
LOCATION:200 Donaldson Ave\, San Antonio\, TX 78201\, 200 Donaldson Ave.\, San Antonio\, TX\, 78201\, United States
ATTACH;FMTTYPE=image/jpeg:https://empowerhousesa.org/wp-content/uploads/2026/02/Empower-House-Digital-Skills-Tuesday-March-2026-Schedule.jpg
END:VEVENT
BEGIN:VEVENT
DTSTART;TZID=America/Chicago:20260319T150000
DTEND;TZID=America/Chicago:20260319T160000
DTSTAMP:20260422T131049
CREATED:20260220T210022Z
LAST-MODIFIED:20260220T210022Z
UID:10002388-1773932400-1773936000@empowerhousesa.org
SUMMARY:Computer Essentials
DESCRIPTION:5 week course\nDate: March 5\, 12\, 19\, 26 & April 2\nTime: 3pm – 4pm (in-person)\nLink: https://www.jotform.com/app/240814212349148/260434635993162
URL:https://empowerhousesa.org/event/computer-essentials/2026-03-19/
LOCATION:200 Donaldson Ave\, San Antonio\, TX 78201\, 200 Donaldson Ave.\, San Antonio\, TX\, 78201\, United States
ATTACH;FMTTYPE=image/jpeg:https://empowerhousesa.org/wp-content/uploads/2026/02/Empower-House-OATS-Computer-Essentials-Workshop.jpg
END:VEVENT
BEGIN:VEVENT
DTSTART;TZID=America/Chicago:20260319T100000
DTEND;TZID=America/Chicago:20260319T110000
DTSTAMP:20260422T131049
CREATED:20260220T210308Z
LAST-MODIFIED:20260220T210309Z
UID:10002392-1773914400-1773918000@empowerhousesa.org
SUMMARY:Technology Thursday
DESCRIPTION:Technology Thursday\nCanva and Canva AI Tools – 10am (in-person)\nCanva and Canva AI Tools – 6:30pm (Virtual)\nVideo Production with AI – 10am (in-person)\nVideo Production with AI – 6:30pm (Virtual)\nLink: https://www.jotform.com/app/240814212349148/251444758972166
URL:https://empowerhousesa.org/event/technology-thursday-2/2026-03-19/
LOCATION:200 Donaldson Ave\, San Antonio\, TX 78201\, 200 Donaldson Ave.\, San Antonio\, TX\, 78201\, United States
ATTACH;FMTTYPE=image/jpeg:https://empowerhousesa.org/wp-content/uploads/2026/02/Empower-House-Technology-Thursday-March-2026-Schedule.jpg
END:VEVENT
BEGIN:VEVENT
DTSTART;TZID=America/Chicago:20260318T133000
DTEND;TZID=America/Chicago:20260318T143000
DTSTAMP:20260422T131049
CREATED:20260220T203551Z
LAST-MODIFIED:20260220T203551Z
UID:10002383-1773840600-1773844200@empowerhousesa.org
SUMMARY:Workforce Wednesday
DESCRIPTION:Workforce Wednesday\nCreating a resume – March 4\, 2026 – 1:30pm (in-person)\nCreating a resume – March 11\, 2026 – 1:30pm (virtual\nCreating a cover letter – March 18\, 2026 – 1:30pm (in-person)\nCreating a cover letter – March 25\, 2026 – 6;30pm (Virtual)\nLink: https://www.jotform.com/app/240814212349148/251444154044146
URL:https://empowerhousesa.org/event/workforce-wednesday-3/2026-03-18/
LOCATION:200 Donaldson Ave\, San Antonio\, TX 78201\, 200 Donaldson Ave.\, San Antonio\, TX\, 78201\, United States
ATTACH;FMTTYPE=image/jpeg:https://empowerhousesa.org/wp-content/uploads/2026/02/Empower-House-Workforce-Wednesday-March-2026-Schedule.jpg
END:VEVENT
BEGIN:VEVENT
DTSTART;TZID=America/Chicago:20260313T100000
DTEND;TZID=America/Chicago:20260313T110000
DTSTAMP:20260422T131049
CREATED:20260220T211052Z
LAST-MODIFIED:20260220T211053Z
UID:10002397-1773396000-1773399600@empowerhousesa.org
SUMMARY:Financially Fit Friday
DESCRIPTION:Financially Fit Friday\nSavings and Emergency Funds – March 6\, 2026 – 6:30pm (Virtual)\nSavings and Emergency Funds – March 13\, 2026 – 10am (in-person)\nBudgeting and 52 Week Saving Challenge – March 20\, 2026 6:30pm (Virtual)\nBudgeting and 52 Week Saving Challenge – March 27\, 2026 – 10am (in-person)\nLink: https://www.jotform.com/app/240814212349148/251552802967160
URL:https://empowerhousesa.org/event/financially-fit-friday-3/2026-03-13/
LOCATION:200 Donaldson Ave\, San Antonio\, TX 78201\, 200 Donaldson Ave.\, San Antonio\, TX\, 78201\, United States
ATTACH;FMTTYPE=image/jpeg:https://empowerhousesa.org/wp-content/uploads/2026/02/Empower-House-Financially-Fit-Friday-March-2026-Schedule.jpg
END:VEVENT
BEGIN:VEVENT
DTSTART;TZID=America/Chicago:20260312T150000
DTEND;TZID=America/Chicago:20260312T160000
DTSTAMP:20260422T131049
CREATED:20260220T210022Z
LAST-MODIFIED:20260220T210022Z
UID:10002387-1773327600-1773331200@empowerhousesa.org
SUMMARY:Computer Essentials
DESCRIPTION:5 week course\nDate: March 5\, 12\, 19\, 26 & April 2\nTime: 3pm – 4pm (in-person)\nLink: https://www.jotform.com/app/240814212349148/260434635993162
URL:https://empowerhousesa.org/event/computer-essentials/2026-03-12/
LOCATION:200 Donaldson Ave\, San Antonio\, TX 78201\, 200 Donaldson Ave.\, San Antonio\, TX\, 78201\, United States
ATTACH;FMTTYPE=image/jpeg:https://empowerhousesa.org/wp-content/uploads/2026/02/Empower-House-OATS-Computer-Essentials-Workshop.jpg
END:VEVENT
BEGIN:VEVENT
DTSTART;TZID=America/Chicago:20260305T150000
DTEND;TZID=America/Chicago:20260305T160000
DTSTAMP:20260422T131049
CREATED:20260220T210022Z
LAST-MODIFIED:20260220T210022Z
UID:10002386-1772722800-1772726400@empowerhousesa.org
SUMMARY:Computer Essentials
DESCRIPTION:5 week course\nDate: March 5\, 12\, 19\, 26 & April 2\nTime: 3pm – 4pm (in-person)\nLink: https://www.jotform.com/app/240814212349148/260434635993162
URL:https://empowerhousesa.org/event/computer-essentials/2026-03-05/
LOCATION:200 Donaldson Ave\, San Antonio\, TX 78201\, 200 Donaldson Ave.\, San Antonio\, TX\, 78201\, United States
ATTACH;FMTTYPE=image/jpeg:https://empowerhousesa.org/wp-content/uploads/2026/02/Empower-House-OATS-Computer-Essentials-Workshop.jpg
END:VEVENT
BEGIN:VEVENT
DTSTART;TZID=America/Chicago:20260305T100000
DTEND;TZID=America/Chicago:20260305T110000
DTSTAMP:20260422T131049
CREATED:20260220T210308Z
LAST-MODIFIED:20260220T210309Z
UID:10002391-1772704800-1772708400@empowerhousesa.org
SUMMARY:Technology Thursday
DESCRIPTION:Technology Thursday\nCanva and Canva AI Tools – 10am (in-person)\nCanva and Canva AI Tools – 6:30pm (Virtual)\nVideo Production with AI – 10am (in-person)\nVideo Production with AI – 6:30pm (Virtual)\nLink: https://www.jotform.com/app/240814212349148/251444758972166
URL:https://empowerhousesa.org/event/technology-thursday-2/2026-03-05/
LOCATION:200 Donaldson Ave\, San Antonio\, TX 78201\, 200 Donaldson Ave.\, San Antonio\, TX\, 78201\, United States
ATTACH;FMTTYPE=image/jpeg:https://empowerhousesa.org/wp-content/uploads/2026/02/Empower-House-Technology-Thursday-March-2026-Schedule.jpg
END:VEVENT
BEGIN:VEVENT
DTSTART;TZID=America/Chicago:20260304T133000
DTEND;TZID=America/Chicago:20260304T143000
DTSTAMP:20260422T131049
CREATED:20260220T203551Z
LAST-MODIFIED:20260220T203551Z
UID:10002382-1772631000-1772634600@empowerhousesa.org
SUMMARY:Workforce Wednesday
DESCRIPTION:Workforce Wednesday\nCreating a resume – March 4\, 2026 – 1:30pm (in-person)\nCreating a resume – March 11\, 2026 – 1:30pm (virtual\nCreating a cover letter – March 18\, 2026 – 1:30pm (in-person)\nCreating a cover letter – March 25\, 2026 – 6;30pm (Virtual)\nLink: https://www.jotform.com/app/240814212349148/251444154044146
URL:https://empowerhousesa.org/event/workforce-wednesday-3/2026-03-04/
LOCATION:200 Donaldson Ave\, San Antonio\, TX 78201\, 200 Donaldson Ave.\, San Antonio\, TX\, 78201\, United States
ATTACH;FMTTYPE=image/jpeg:https://empowerhousesa.org/wp-content/uploads/2026/02/Empower-House-Workforce-Wednesday-March-2026-Schedule.jpg
END:VEVENT
BEGIN:VEVENT
DTSTART;TZID=America/Chicago:20260303T133000
DTEND;TZID=America/Chicago:20260303T143000
DTSTAMP:20260422T131049
CREATED:20260220T202917Z
LAST-MODIFIED:20260220T202917Z
UID:10002378-1772544600-1772548200@empowerhousesa.org
SUMMARY:Digital Skills Tuesday
DESCRIPTION:Intro to Gmail – March 3\, 2026 – 1:30pm (in-person)\nIntro to Gmail – March 17\, 2026 – 6:30pm  (Virtual)\nInternet Safety – March 24\, 2026 – 1:30pm  (in-person)\nInternet Safety – March 31\, 2026 – 6:30pm (Virtual)\nLink: https://www.jotform.com/app/240814212349148/251551719080152
URL:https://empowerhousesa.org/event/digital-skills-tuesday-4/2026-03-03/
LOCATION:200 Donaldson Ave\, San Antonio\, TX 78201\, 200 Donaldson Ave.\, San Antonio\, TX\, 78201\, United States
ATTACH;FMTTYPE=image/jpeg:https://empowerhousesa.org/wp-content/uploads/2026/02/Empower-House-Digital-Skills-Tuesday-March-2026-Schedule.jpg
END:VEVENT
BEGIN:VEVENT
DTSTART;TZID=America/Chicago:20260302T130000
DTEND;TZID=America/Chicago:20260302T143000
DTSTAMP:20260422T131049
CREATED:20251219T151632Z
LAST-MODIFIED:20260205T211542Z
UID:10002325-1772456400-1772461800@empowerhousesa.org
SUMMARY:Taller para pequeños negocios
DESCRIPTION:Pasos inteligentes hacia el éxito empresarial – Esta serie de 6 sesiones presenta conferencias introductorias sobre aplicaciones\, sitios web y otras herramientas tecnológicas que pueden ayudar a modernizar los pequeños negocios. \nFechas: \nTercera sesión sesión- 9 de Febrero\, 2026 \nCuarta sesión sesión- 19 de Febrero\, 2026 – \nQuinta sesión sesión- 23 de Febrero\, 2026 \nSexta sesión sesión- 2 de Marzo 2026 \nCeremonia de Graduación y Certificación – 3 de Marzo \nRegistrate aqui: https://form.jotform.com/252373579228163
URL:https://empowerhousesa.org/event/taller-para-pequenos-negocios/2026-03-02/
LOCATION:200 Donaldson Ave\, San Antonio\, TX 78201\, 200 Donaldson Ave.\, San Antonio\, TX\, 78201\, United States
ATTACH;FMTTYPE=image/jpeg:https://empowerhousesa.org/wp-content/uploads/2025/12/Empower-House-Spanish-Small-Business-Workshop-Series.jpg
END:VEVENT
BEGIN:VEVENT
DTSTART;TZID=America/Chicago:20260224T100000
DTEND;TZID=America/Chicago:20260224T113000
DTSTAMP:20260422T131049
CREATED:20260128T222901Z
LAST-MODIFIED:20260128T224150Z
UID:10002348-1771927200-1771932600@empowerhousesa.org
SUMMARY:Habilidades Digitales cada Martes en Español
DESCRIPTION:Fechas \n2/10/2026 – Microsoft Word 10am – 11:30am \n2/24/2026 – Microsoft Excel – 10am – 11:30am \nRegístrate aquí: https://www.jotform.com/app/240814212349148/251551719080152
URL:https://empowerhousesa.org/event/habilidades-digitales-cada-martes-en-espanol/2026-02-24/
LOCATION:200 Donaldson Ave\, San Antonio\, TX 78201\, 200 Donaldson Ave.\, San Antonio\, TX\, 78201\, United States
ATTACH;FMTTYPE=image/jpeg:https://empowerhousesa.org/wp-content/uploads/2026/01/Empower-House-Digital-Skills-Tuesday-February-Schedule-Spanish.jpg
END:VEVENT
BEGIN:VEVENT
DTSTART;TZID=America/Chicago:20260223T130000
DTEND;TZID=America/Chicago:20260223T143000
DTSTAMP:20260422T131049
CREATED:20251219T151632Z
LAST-MODIFIED:20260205T211542Z
UID:10002324-1771851600-1771857000@empowerhousesa.org
SUMMARY:Taller para pequeños negocios
DESCRIPTION:Pasos inteligentes hacia el éxito empresarial – Esta serie de 6 sesiones presenta conferencias introductorias sobre aplicaciones\, sitios web y otras herramientas tecnológicas que pueden ayudar a modernizar los pequeños negocios. \nFechas: \nTercera sesión sesión- 9 de Febrero\, 2026 \nCuarta sesión sesión- 19 de Febrero\, 2026 – \nQuinta sesión sesión- 23 de Febrero\, 2026 \nSexta sesión sesión- 2 de Marzo 2026 \nCeremonia de Graduación y Certificación – 3 de Marzo \nRegistrate aqui: https://form.jotform.com/252373579228163
URL:https://empowerhousesa.org/event/taller-para-pequenos-negocios/2026-02-23/
LOCATION:200 Donaldson Ave\, San Antonio\, TX 78201\, 200 Donaldson Ave.\, San Antonio\, TX\, 78201\, United States
ATTACH;FMTTYPE=image/jpeg:https://empowerhousesa.org/wp-content/uploads/2025/12/Empower-House-Spanish-Small-Business-Workshop-Series.jpg
END:VEVENT
BEGIN:VEVENT
DTSTART;TZID=America/Chicago:20260220T100000
DTEND;TZID=America/Chicago:20260220T113000
DTSTAMP:20260422T131049
CREATED:20260128T233201Z
LAST-MODIFIED:20260128T233201Z
UID:10002365-1771581600-1771587000@empowerhousesa.org
SUMMARY:Financially Fit Friday - In Person Schedule
DESCRIPTION:In-person schedule \n2/13/2026 – 50/30/20 Budget Rule / 10am-11:30am \n2/20/2026 – Overcoming Financial Barriers / 10am-11:30am \nRegister Here: https://www.jotform.com/app/240814212349148/251552802967160
URL:https://empowerhousesa.org/event/financially-fit-friday-in-person-schedule/2026-02-20/
LOCATION:200 Donaldson Ave\, San Antonio\, TX 78201\, 200 Donaldson Ave.\, San Antonio\, TX\, 78201\, United States
ATTACH;FMTTYPE=image/jpeg:https://empowerhousesa.org/wp-content/uploads/2026/01/Empower-House-Financially-Fit-Friday-Februrary-2026-Schedule.jpg
END:VEVENT
BEGIN:VEVENT
DTSTART;TZID=America/Chicago:20260219T100000
DTEND;TZID=America/Chicago:20260219T113000
DTSTAMP:20260422T131049
CREATED:20260128T231215Z
LAST-MODIFIED:20260128T232401Z
UID:10002361-1771495200-1771500600@empowerhousesa.org
SUMMARY:Technology Thursday February Schedule
DESCRIPTION:In-person Schedule \n2/12/2026 – Claude AI 1oam – 11:30am \n2/19/2026 – Copilot AI 10am-11:30am \nRegister Here: https://www.jotform.com/app/240814212349148/251444758972166
URL:https://empowerhousesa.org/event/technology-thursday-february-schedule/2026-02-19/
LOCATION:200 Donaldson Ave\, San Antonio\, TX 78201\, 200 Donaldson Ave.\, San Antonio\, TX\, 78201\, United States
ATTACH;FMTTYPE=image/jpeg:https://empowerhousesa.org/wp-content/uploads/2026/01/Empower-House-Technology-Thursday-February-2026-Schedule.jpg
END:VEVENT
BEGIN:VEVENT
DTSTART;TZID=America/Chicago:20260217T133000
DTEND;TZID=America/Chicago:20260217T143000
DTSTAMP:20260422T131049
CREATED:20260128T223639Z
LAST-MODIFIED:20260128T223747Z
UID:10002350-1771335000-1771338600@empowerhousesa.org
SUMMARY:Digital Skills Tuesday
DESCRIPTION:In-person Dates \n2/10/2026 – Microsoft Word – 1:30pm – 2:30pm \n2/17/2026 – Microsoft Excel – 1:30pm -2:30pm \nRegister here: https://www.jotform.com/app/240814212349148/251551719080152
URL:https://empowerhousesa.org/event/digital-skills-tuesday-3/2026-02-17/
LOCATION:200 Donaldson Ave\, San Antonio\, TX 78201\, 200 Donaldson Ave.\, San Antonio\, TX\, 78201\, United States
ATTACH;FMTTYPE=image/jpeg:https://empowerhousesa.org/wp-content/uploads/2026/01/Empower-House-Digital-Skills-Tuesday-February-2026-Schedule.jpg
END:VEVENT
BEGIN:VEVENT
DTSTART;TZID=America/Chicago:20260216T130000
DTEND;TZID=America/Chicago:20260216T143000
DTSTAMP:20260422T131049
CREATED:20251219T151632Z
LAST-MODIFIED:20260205T211542Z
UID:10002323-1771246800-1771252200@empowerhousesa.org
SUMMARY:Taller para pequeños negocios
DESCRIPTION:Pasos inteligentes hacia el éxito empresarial – Esta serie de 6 sesiones presenta conferencias introductorias sobre aplicaciones\, sitios web y otras herramientas tecnológicas que pueden ayudar a modernizar los pequeños negocios. \nFechas: \nTercera sesión sesión- 9 de Febrero\, 2026 \nCuarta sesión sesión- 19 de Febrero\, 2026 – \nQuinta sesión sesión- 23 de Febrero\, 2026 \nSexta sesión sesión- 2 de Marzo 2026 \nCeremonia de Graduación y Certificación – 3 de Marzo \nRegistrate aqui: https://form.jotform.com/252373579228163
URL:https://empowerhousesa.org/event/taller-para-pequenos-negocios/2026-02-16/
LOCATION:200 Donaldson Ave\, San Antonio\, TX 78201\, 200 Donaldson Ave.\, San Antonio\, TX\, 78201\, United States
ATTACH;FMTTYPE=image/jpeg:https://empowerhousesa.org/wp-content/uploads/2025/12/Empower-House-Spanish-Small-Business-Workshop-Series.jpg
END:VEVENT
BEGIN:VEVENT
DTSTART;TZID=America/Chicago:20260213T100000
DTEND;TZID=America/Chicago:20260213T113000
DTSTAMP:20260422T131049
CREATED:20260128T233201Z
LAST-MODIFIED:20260128T233201Z
UID:10002364-1770976800-1770982200@empowerhousesa.org
SUMMARY:Financially Fit Friday - In Person Schedule
DESCRIPTION:In-person schedule \n2/13/2026 – 50/30/20 Budget Rule / 10am-11:30am \n2/20/2026 – Overcoming Financial Barriers / 10am-11:30am \nRegister Here: https://www.jotform.com/app/240814212349148/251552802967160
URL:https://empowerhousesa.org/event/financially-fit-friday-in-person-schedule/2026-02-13/
LOCATION:200 Donaldson Ave\, San Antonio\, TX 78201\, 200 Donaldson Ave.\, San Antonio\, TX\, 78201\, United States
ATTACH;FMTTYPE=image/jpeg:https://empowerhousesa.org/wp-content/uploads/2026/01/Empower-House-Financially-Fit-Friday-Februrary-2026-Schedule.jpg
END:VEVENT
END:VCALENDAR