BEGIN:VCALENDAR
VERSION:2.0
PRODID:-//Empower House - ECPv6.15.18//NONSGML v1.0//EN
CALSCALE:GREGORIAN
METHOD:PUBLISH
X-ORIGINAL-URL:https://empowerhousesa.org
X-WR-CALDESC:Events for Empower House
REFRESH-INTERVAL;VALUE=DURATION:PT1H
X-Robots-Tag:noindex
X-PUBLISHED-TTL:PT1H
BEGIN:VTIMEZONE
TZID:America/Chicago
BEGIN:DAYLIGHT
TZOFFSETFROM:-0600
TZOFFSETTO:-0500
TZNAME:CDT
DTSTART:20220313T080000
END:DAYLIGHT
BEGIN:STANDARD
TZOFFSETFROM:-0500
TZOFFSETTO:-0600
TZNAME:CST
DTSTART:20221106T070000
END:STANDARD
BEGIN:DAYLIGHT
TZOFFSETFROM:-0600
TZOFFSETTO:-0500
TZNAME:CDT
DTSTART:20230312T080000
END:DAYLIGHT
BEGIN:STANDARD
TZOFFSETFROM:-0500
TZOFFSETTO:-0600
TZNAME:CST
DTSTART:20231105T070000
END:STANDARD
BEGIN:DAYLIGHT
TZOFFSETFROM:-0600
TZOFFSETTO:-0500
TZNAME:CDT
DTSTART:20240310T080000
END:DAYLIGHT
BEGIN:STANDARD
TZOFFSETFROM:-0500
TZOFFSETTO:-0600
TZNAME:CST
DTSTART:20241103T070000
END:STANDARD
END:VTIMEZONE
BEGIN:VEVENT
DTSTART;TZID=America/Chicago:20230119T183000
DTEND;TZID=America/Chicago:20230119T203000
DTSTAMP:20260425T232039
CREATED:20230106T162408Z
LAST-MODIFIED:20230106T162740Z
UID:10000214-1674153000-1674160200@empowerhousesa.org
SUMMARY:Empower House DreamWeek Event: Pushout Film and Community Discussion
DESCRIPTION:As part of DreamWeek \, join us Thursday\, January 19th @ 6:30 pm @ Black Potion (1900 Fredericksburg Rd Suite 101) for a screening of the film “Pushout: The Criminalization of Black Girls in Schools\,”  a film about the underlying issues affecting Black girls and the practices\, cultural beliefs\, and policies that disrupt one of the most important factors in girls’ lives – education. \nAfter the film\, we will also have a community discussion! We will explore the need for healing from institutional trauma and tools for building flourishing communities through restorative justice.❤️ \nWe can’t wait to see you there!!😁
URL:https://empowerhousesa.org/event/empower-house-dreamweek-event-pushout-film-and-community-discussion/
LOCATION:Black Potion San Antonio\, 1900 Fredericksburg Rd Suite 101\, San Antonio\, TX\, 78201\, United States
ORGANIZER;CN="Empower House":MAILTO:info@mswomenscenter.org
END:VEVENT
END:VCALENDAR