BEGIN:VCALENDAR
VERSION:2.0
PRODID:-//Empower House - ECPv6.15.18//NONSGML v1.0//EN
CALSCALE:GREGORIAN
METHOD:PUBLISH
X-ORIGINAL-URL:https://empowerhousesa.org
X-WR-CALDESC:Events for Empower House
REFRESH-INTERVAL;VALUE=DURATION:PT1H
X-Robots-Tag:noindex
X-PUBLISHED-TTL:PT1H
BEGIN:VTIMEZONE
TZID:America/Chicago
BEGIN:DAYLIGHT
TZOFFSETFROM:-0600
TZOFFSETTO:-0500
TZNAME:CDT
DTSTART:20250309T080000
END:DAYLIGHT
BEGIN:STANDARD
TZOFFSETFROM:-0500
TZOFFSETTO:-0600
TZNAME:CST
DTSTART:20251102T070000
END:STANDARD
BEGIN:DAYLIGHT
TZOFFSETFROM:-0600
TZOFFSETTO:-0500
TZNAME:CDT
DTSTART:20260308T080000
END:DAYLIGHT
BEGIN:STANDARD
TZOFFSETFROM:-0500
TZOFFSETTO:-0600
TZNAME:CST
DTSTART:20261101T070000
END:STANDARD
BEGIN:DAYLIGHT
TZOFFSETFROM:-0600
TZOFFSETTO:-0500
TZNAME:CDT
DTSTART:20270314T080000
END:DAYLIGHT
BEGIN:STANDARD
TZOFFSETFROM:-0500
TZOFFSETTO:-0600
TZNAME:CST
DTSTART:20271107T070000
END:STANDARD
END:VTIMEZONE
BEGIN:VEVENT
DTSTART;TZID=America/Chicago:20260116T183000
DTEND;TZID=America/Chicago:20260116T203000
DTSTAMP:20260424T220405
CREATED:20260113T172615Z
LAST-MODIFIED:20260113T172615Z
UID:10002332-1768588200-1768595400@empowerhousesa.org
SUMMARY:Agents of Change
DESCRIPTION:Agents of Change | A DreamWeek Poetry Experience\nFREE & Open to the Public \n📅 Thursday\, January 16\, 2026🕡 Doors Open: 6:30 PM | Show: 6:50–8:15 PM📍 The Little Carver \nJoin us for Agents of Change\, a FREE DreamWeek poetry experience featuring some of San Antonio’s most powerful and respected voices in spoken word. \nFree DreamWeek events San AntonioThis high-energy evening brings together renowned poets and teaching artists whose work inspires reflection\, resistance\, and collective action. \nThe night will feature performances and collaborations byAndrea “Vocab” Sanderson\,Ale La Meramera\,Johnny Rivers (Space Dragon)\,Mecca Miles\, andMandy Lynn. \nThrough solo pieces and dynamic collaborations\, these artists explore what it means to use your voice as a catalyst for change. Expect bold storytelling\, rhythmic fire\, moments of vulnerability\, and poetry that challenges\, uplifts\, and connects. \nWhether you’re a longtime poetry lover or new to spoken word\, this night is for anyone who believes that many voices can spark one movement. \n✨ Free admission🎤 High-energy spoken word🌱 Community-centered. Change-driven. \nCome witness the power of poetry in motion during DreamWeek.
URL:https://empowerhousesa.org/event/agents-of-change/
LOCATION:The Little Carver\, 226 N Hackberry St\, San Antonio\, TX\, 78202\, United States
ATTACH;FMTTYPE=image/png:https://empowerhousesa.org/wp-content/uploads/2026/01/January-16th.png
END:VEVENT
END:VCALENDAR