BEGIN:VCALENDAR
VERSION:2.0
PRODID:-//Empower House - ECPv6.15.18//NONSGML v1.0//EN
CALSCALE:GREGORIAN
METHOD:PUBLISH
X-WR-CALNAME:Empower House
X-ORIGINAL-URL:https://empowerhousesa.org
X-WR-CALDESC:Events for Empower House
REFRESH-INTERVAL;VALUE=DURATION:PT1H
X-Robots-Tag:noindex
X-PUBLISHED-TTL:PT1H
BEGIN:VTIMEZONE
TZID:America/Chicago
BEGIN:DAYLIGHT
TZOFFSETFROM:-0600
TZOFFSETTO:-0500
TZNAME:CDT
DTSTART:20250309T080000
END:DAYLIGHT
BEGIN:STANDARD
TZOFFSETFROM:-0500
TZOFFSETTO:-0600
TZNAME:CST
DTSTART:20251102T070000
END:STANDARD
BEGIN:DAYLIGHT
TZOFFSETFROM:-0600
TZOFFSETTO:-0500
TZNAME:CDT
DTSTART:20260308T080000
END:DAYLIGHT
BEGIN:STANDARD
TZOFFSETFROM:-0500
TZOFFSETTO:-0600
TZNAME:CST
DTSTART:20261101T070000
END:STANDARD
BEGIN:DAYLIGHT
TZOFFSETFROM:-0600
TZOFFSETTO:-0500
TZNAME:CDT
DTSTART:20270314T080000
END:DAYLIGHT
BEGIN:STANDARD
TZOFFSETFROM:-0500
TZOFFSETTO:-0600
TZNAME:CST
DTSTART:20271107T070000
END:STANDARD
END:VTIMEZONE
BEGIN:VEVENT
DTSTART;TZID=America/Chicago:20260331T100000
DTEND;TZID=America/Chicago:20260331T113000
DTSTAMP:20260424T015337
CREATED:20260220T202224Z
LAST-MODIFIED:20260220T202224Z
UID:10002377-1774951200-1774956600@empowerhousesa.org
SUMMARY:Digital Skills Tuesday en Español
DESCRIPTION:Digital Skills Tuesday en Español\nIntroducción a Gmail – March 3. 2026 – 10am (Virtual)\nIntroducción a la seguridad en Internet – March 17\, 2026 – 10am (Virtual)\nIntroducción a los conceptos básicos de la computadora – 10am (Virtual)\nIntroducción a Canva – March 31\, 2026 – 10am (Virtual)\nLink: https://www.jotform.com/app/240814212349148/260486805971164
URL:https://empowerhousesa.org/event/digital-skills-tuesday-en-espanol/2026-03-31/
LOCATION:Virtual Through ZOOM
ATTACH;FMTTYPE=image/jpeg:https://empowerhousesa.org/wp-content/uploads/2026/02/Empower-House-Digital-Skills-Tuesday-March-Schedule-Spanish.jpg
END:VEVENT
BEGIN:VEVENT
DTSTART;TZID=America/Chicago:20260331T183000
DTEND;TZID=America/Chicago:20260331T193000
DTSTAMP:20260424T015337
CREATED:20260220T203237Z
LAST-MODIFIED:20260220T203238Z
UID:10002381-1774981800-1774985400@empowerhousesa.org
SUMMARY:Digital Skills Tuesday - Virtual
DESCRIPTION:Digital Skills Tuesday \nIntro to Gmail – March 3\, 2026 – 1:30pm (in-person)\nIntro to Gmail – March 17\, 2026 – 6:30pm  (Virtual)\nInternet Safety – March 24\, 2026 – 1:30pm  (in-person)\nInternet Safety – March 31\, 2026 – 6:30pm (Virtual)\nLink: https://www.jotform.com/app/240814212349148/251551719080152
URL:https://empowerhousesa.org/event/digital-skills-tuesday-virtual/2026-03-31/
LOCATION:Virtual Through ZOOM
ATTACH;FMTTYPE=image/jpeg:https://empowerhousesa.org/wp-content/uploads/2026/02/Empower-House-Digital-Skills-Tuesday-March-2026-Schedule-1.jpg
END:VEVENT
END:VCALENDAR