BEGIN:VCALENDAR
VERSION:2.0
PRODID:-//Empower House - ECPv6.15.18//NONSGML v1.0//EN
CALSCALE:GREGORIAN
METHOD:PUBLISH
X-ORIGINAL-URL:https://empowerhousesa.org
X-WR-CALDESC:Events for Empower House
REFRESH-INTERVAL;VALUE=DURATION:PT1H
X-Robots-Tag:noindex
X-PUBLISHED-TTL:PT1H
BEGIN:VTIMEZONE
TZID:America/Chicago
BEGIN:DAYLIGHT
TZOFFSETFROM:-0600
TZOFFSETTO:-0500
TZNAME:CDT
DTSTART:20250309T080000
END:DAYLIGHT
BEGIN:STANDARD
TZOFFSETFROM:-0500
TZOFFSETTO:-0600
TZNAME:CST
DTSTART:20251102T070000
END:STANDARD
BEGIN:DAYLIGHT
TZOFFSETFROM:-0600
TZOFFSETTO:-0500
TZNAME:CDT
DTSTART:20260308T080000
END:DAYLIGHT
BEGIN:STANDARD
TZOFFSETFROM:-0500
TZOFFSETTO:-0600
TZNAME:CST
DTSTART:20261101T070000
END:STANDARD
BEGIN:DAYLIGHT
TZOFFSETFROM:-0600
TZOFFSETTO:-0500
TZNAME:CDT
DTSTART:20270314T080000
END:DAYLIGHT
BEGIN:STANDARD
TZOFFSETFROM:-0500
TZOFFSETTO:-0600
TZNAME:CST
DTSTART:20271107T070000
END:STANDARD
END:VTIMEZONE
BEGIN:VEVENT
DTSTART;TZID=America/Chicago:20260113T100000
DTEND;TZID=America/Chicago:20260113T113000
DTSTAMP:20260423T225232
CREATED:20251205T205157Z
LAST-MODIFIED:20251205T205753Z
UID:10002253-1768298400-1768303800@empowerhousesa.org
SUMMARY:Habilidades  Digitales  Martes - Horario de enero
DESCRIPTION:Martes de Habilidades Digitales en Empower House \n\n\nÚnete a nosotros todos los martes para los Talleres de Habilidades Digitales de Empower House\, diseñados para ayudarte a crecer en confianza y capacidad con las herramientas tecnológicas esenciales de hoy. Ya sea que estés comenzando o quieras perfeccionar tus habilidades\, ¡estamos aquí para ayudarte! \n\n\nNuestros talleres prácticos y aptos para principiantes cubren una variedad de temas\, incluyendo: \n\n\nIntroducción a los conceptos básicos de la computadora\, habilidades de teclado y seguridad en internet\nGoogle Workspace: Docs\, Sheets y Slides\nMicrosoft 365: Word\, Excel y PowerPoint\nCanva para diseño creativo\nLinkedIn Learning para desarrollo profesional\n\n\nTodos los talleres son completamente gratuitos\, se realizan en un entorno acogedor y de apoyo\, y están abiertos a todos los niveles de experiencia. \n\n\n\nHorario de enero \n1/6/2026 – Introducción a Google Docs  – 10am-11:30am – 200 Donaldson Ave. SA TX 78201 \n1/13/2026 – Introducción a Google Sheets – 10am-11:30am – 200 Donaldson Ave. SA TX 78201 \n1/20/2026 – Introducción a Google Slides – 10am-11:30am – 200 Donaldson Ave. SA TX 78201 \nRegístrese aquí: https://www.jotform.com/app/240814212349148/251551719080152
URL:https://empowerhousesa.org/event/habilidades-digitales-martes-horario-de-enero/2026-01-13/
LOCATION:200 Donaldson Ave\, San Antonio\, TX 78201\, 200 Donaldson Ave.\, San Antonio\, TX\, 78201\, United States
ATTACH;FMTTYPE=image/jpeg:https://empowerhousesa.org/wp-content/uploads/2025/12/Empower-House-Digital-Skills-Tuesday-January-Schedule-Spanish.jpg
END:VEVENT
BEGIN:VEVENT
DTSTART;TZID=America/Chicago:20260113T130000
DTEND;TZID=America/Chicago:20260113T163000
DTSTAMP:20260423T225232
CREATED:20260106T172851Z
LAST-MODIFIED:20260106T172851Z
UID:10002330-1768309200-1768321800@empowerhousesa.org
SUMMARY:2026 Small Business Workshop Series
DESCRIPTION:Come to our business workshop and learn how to create and maintain a successful business. \n\n\n01/13/26 @ 1-2:30pm – SBA Resources for Small Businesses\n01/13/26 @ 3-4:30pm – Option to buy an existing business or a Franchise\n01/22/26 @ 1-2:30pm – Understanding Financial Statements\n01/22/26 @ 3-4:30pm – Bootstrapping: Techniques for Small Business Financial Efficiency\n\nRegister here: https://www.jotform.com/app/240814212349148/253638433660157
URL:https://empowerhousesa.org/event/2026-small-business-workshop-series/2026-01-13/
LOCATION:200 Donaldson Ave\, San Antonio\, TX 78201\, 200 Donaldson Ave.\, San Antonio\, TX\, 78201\, United States
ATTACH;FMTTYPE=image/jpeg:https://empowerhousesa.org/wp-content/uploads/2026/01/Empower-House-SBA-Small-Business-Workshop-Series.jpg
END:VEVENT
BEGIN:VEVENT
DTSTART;TZID=America/Chicago:20260113T183000
DTEND;TZID=America/Chicago:20260113T193000
DTSTAMP:20260423T225232
CREATED:20251205T192911Z
LAST-MODIFIED:20251205T203816Z
UID:10002243-1768329000-1768332600@empowerhousesa.org
SUMMARY:Digital Skills Tuesday - January Schedule (Virtual)
DESCRIPTION:Digital Skills Tuesdays at Empower House \nJoin us every Tuesday for Empower House Digital Skills Workshops—designed to help you grow in confidence and capability with today’s essential tech tools. Whether you’re just starting out or looking to sharpen your skills\, we’ve got you covered! \nOur hands-on\, beginner-friendly workshops cover a variety of topics\, including: \n\nIntro to computer basics\, keyboarding skills\, internet safety\nGoogle Workspace: Docs\, Sheets\, and Slides\nMicrosoft 365: Word\, Excel\, and PowerPoint\nCanva for creative design\nLinkedIn Learning for professional development\n\nAll workshops are completely free\, held in a supportive and welcoming environment\, and open to all experience levels. \n📅 Register today and take the first step toward mastering digital tools that can open doors in work\, school\, and life! \n\n* Participants will receive a $20 HEB Gift Card. Seating is limited. Register Now \nJanuary Schedule: \n1/6/2026 – Intro to Google Docs – 1:30pm – 2:30pm – 200 Donaldson Ave. SA TX 78201 \n1/13/2026 – Intro to Google Docs – 6:30pm – 7:30pm (Virtual) \n1/20/2026 – Intro to Google Sheet – 1:30pm – 2:30pm – 200 Donaldson Ave. SA TX 78201 \n1/27/2026 – Intro to Google Sheet – 6:30pm – 7:30pm – (Virtual) \nRegister here: https://www.jotform.com/app/240814212349148/251551719080152
URL:https://empowerhousesa.org/event/digital-skills-tuesday-january-schedule-in-person/2026-01-13/
LOCATION:200 Donaldson Ave\, San Antonio\, TX 78201\, 200 Donaldson Ave.\, San Antonio\, TX\, 78201\, United States
ATTACH;FMTTYPE=image/jpeg:https://empowerhousesa.org/wp-content/uploads/2025/12/Empower-House-Digital-Skills-Tuesday-January-2026-Schedule.jpg
END:VEVENT
END:VCALENDAR