BEGIN:VCALENDAR
VERSION:2.0
PRODID:-//Empower House - ECPv6.15.18//NONSGML v1.0//EN
CALSCALE:GREGORIAN
METHOD:PUBLISH
X-ORIGINAL-URL:https://empowerhousesa.org
X-WR-CALDESC:Events for Empower House
REFRESH-INTERVAL;VALUE=DURATION:PT1H
X-Robots-Tag:noindex
X-PUBLISHED-TTL:PT1H
BEGIN:VTIMEZONE
TZID:America/Chicago
BEGIN:DAYLIGHT
TZOFFSETFROM:-0600
TZOFFSETTO:-0500
TZNAME:CDT
DTSTART:20240310T080000
END:DAYLIGHT
BEGIN:STANDARD
TZOFFSETFROM:-0500
TZOFFSETTO:-0600
TZNAME:CST
DTSTART:20241103T070000
END:STANDARD
BEGIN:DAYLIGHT
TZOFFSETFROM:-0600
TZOFFSETTO:-0500
TZNAME:CDT
DTSTART:20250309T080000
END:DAYLIGHT
BEGIN:STANDARD
TZOFFSETFROM:-0500
TZOFFSETTO:-0600
TZNAME:CST
DTSTART:20251102T070000
END:STANDARD
BEGIN:DAYLIGHT
TZOFFSETFROM:-0600
TZOFFSETTO:-0500
TZNAME:CDT
DTSTART:20260308T080000
END:DAYLIGHT
BEGIN:STANDARD
TZOFFSETFROM:-0500
TZOFFSETTO:-0600
TZNAME:CST
DTSTART:20261101T070000
END:STANDARD
END:VTIMEZONE
BEGIN:VEVENT
DTSTART;TZID=America/Chicago:20250725T130000
DTEND;TZID=America/Chicago:20250725T150000
DTSTAMP:20260425T170910
CREATED:20250315T143701Z
LAST-MODIFIED:20250315T153446Z
UID:10000798-1753448400-1753455600@empowerhousesa.org
SUMMARY:Artificial Intelligence Workshop Series
DESCRIPTION:There’s no doubt artificial intelligence (AI) is a hot topic\, and for good reason! AI technology is rapidly developing and increasingly impacting our lives. This multi-week series will explain the AI tools that have been part of everyday life for a while and also explore cutting edge applications of the technology. We’ll look at ways we can use AI tools to help with a variety of tasks from writing emails to creating artistic images. You’ll also learn tips for identifying AI-generated content\, best practices for using AI\, and how to stay safe. \nLocation: 200 Donaldson Ave\, San Antonio\, TX 78201 \nRegistration Link: https://www.jotform.com/app/240814212349148/250724765279164
URL:https://empowerhousesa.org/event/artificial-intelligence-workshop-series/2025-07-25/
LOCATION:200 Donaldson Ave\, San Antonio\, TX 78201\, 200 Donaldson Ave.\, San Antonio\, TX\, 78201\, United States
ATTACH;FMTTYPE=image/jpeg:https://empowerhousesa.org/wp-content/uploads/2025/03/Empower-House-Exploring-AI-Workshop-Series-1.jpg
END:VEVENT
END:VCALENDAR