BEGIN:VCALENDAR
VERSION:2.0
PRODID:-//Empower House - ECPv6.15.18//NONSGML v1.0//EN
CALSCALE:GREGORIAN
METHOD:PUBLISH
X-ORIGINAL-URL:https://empowerhousesa.org
X-WR-CALDESC:Events for Empower House
REFRESH-INTERVAL;VALUE=DURATION:PT1H
X-Robots-Tag:noindex
X-PUBLISHED-TTL:PT1H
BEGIN:VTIMEZONE
TZID:America/Chicago
BEGIN:DAYLIGHT
TZOFFSETFROM:-0600
TZOFFSETTO:-0500
TZNAME:CDT
DTSTART:20240310T080000
END:DAYLIGHT
BEGIN:STANDARD
TZOFFSETFROM:-0500
TZOFFSETTO:-0600
TZNAME:CST
DTSTART:20241103T070000
END:STANDARD
BEGIN:DAYLIGHT
TZOFFSETFROM:-0600
TZOFFSETTO:-0500
TZNAME:CDT
DTSTART:20250309T080000
END:DAYLIGHT
BEGIN:STANDARD
TZOFFSETFROM:-0500
TZOFFSETTO:-0600
TZNAME:CST
DTSTART:20251102T070000
END:STANDARD
BEGIN:DAYLIGHT
TZOFFSETFROM:-0600
TZOFFSETTO:-0500
TZNAME:CDT
DTSTART:20260308T080000
END:DAYLIGHT
BEGIN:STANDARD
TZOFFSETFROM:-0500
TZOFFSETTO:-0600
TZNAME:CST
DTSTART:20261101T070000
END:STANDARD
END:VTIMEZONE
BEGIN:VEVENT
DTSTART;TZID=America/Chicago:20250723T100000
DTEND;TZID=America/Chicago:20250723T150000
DTSTAMP:20260425T170924
CREATED:20250702T144642Z
LAST-MODIFIED:20250724T193608Z
UID:10000964-1753264800-1753282800@empowerhousesa.org
SUMMARY:Typing Challenge
DESCRIPTION:Who is San Antonio’s fastest typist? Could it be you? We’re calling all keyboard warriors\, typists\, gamers\, and anyone ready to show off their speed and skill. Step up and prove you’re the fastest in the Alamo City! \nWe have made it easy to participate! \nWe have divided the typing challenge by age group! So\, get off the couch this summer and head over to Empower House and show off you typing skills. \nThe event starts July 7th thru August 7th. \nYou can take the typing challenge from 10am-3pm. Monday thru Thursday \nWinner in each age group will win a $20 HEB gift card. \nRegister below to reserve your time to take the typing challenge. (Winners will be announced on August 11th) \nLink: https://www.jotform.com/app/240814212349148/251814060084147
URL:https://empowerhousesa.org/event/typing-challenge/2025-07-23/
LOCATION:200 Donaldson Ave\, San Antonio\, TX 78201\, 200 Donaldson Ave.\, San Antonio\, TX\, 78201\, United States
ATTACH;FMTTYPE=image/png:https://empowerhousesa.org/wp-content/uploads/2025/07/Empower-Connects-Digi4al-Skills-Program-and-Workshop-Information.png
END:VEVENT
BEGIN:VEVENT
DTSTART;TZID=America/Chicago:20250723T140000
DTEND;TZID=America/Chicago:20250723T153000
DTSTAMP:20260425T170925
CREATED:20250509T141916Z
LAST-MODIFIED:20250509T141916Z
UID:10000847-1753279200-1753284600@empowerhousesa.org
SUMMARY:Lo que usted necesita saber acerca de dinero para su negocio - Series
DESCRIPTION:Lunes 07/21/25: Acceso a Capital – En este módulo se presentarán distintas opciones de capital para su negocio\, tradicionales y no-tradicionales \nMartes 07/22/25: El Plan de Negocios En este módulo se presentará el Business Model Canvas y el Tradicional Business Plan para ayudar a trazar el rumbo financiero de un proyecto de negocios. \nMiércoles 07/23/25: Tecnicas Bootstrapping – En este módulo se presentarán diferentes técnicas para el eficiente uso del dinero mediante sus activos\, pasivos y operaciones dentro de un negocio. \nLocalización – 801 N. Olive St. San Antonio\, TX 78202 \nEnlace de registro: https://www.jotform.com/app/240814212349148/251258016252147
URL:https://empowerhousesa.org/event/lo-que-usted-necesita-saber-acerca-de-dinero-para-su-negocio-series/2025-07-23/
LOCATION:801 N. Olive St.\, San Antonio\, Texas\, 78202
ATTACH;FMTTYPE=image/jpeg:https://empowerhousesa.org/wp-content/uploads/2025/05/Lo-Que-Usted-Necista-Saber-Acerca-De-Dinero-Para-Su-Negocio-1.jpg
END:VEVENT
END:VCALENDAR