BEGIN:VCALENDAR
VERSION:2.0
PRODID:-//Empower House - ECPv6.15.18//NONSGML v1.0//EN
CALSCALE:GREGORIAN
METHOD:PUBLISH
X-WR-CALNAME:Empower House
X-ORIGINAL-URL:https://empowerhousesa.org
X-WR-CALDESC:Events for Empower House
REFRESH-INTERVAL;VALUE=DURATION:PT1H
X-Robots-Tag:noindex
X-PUBLISHED-TTL:PT1H
BEGIN:VTIMEZONE
TZID:America/Chicago
BEGIN:DAYLIGHT
TZOFFSETFROM:-0600
TZOFFSETTO:-0500
TZNAME:CDT
DTSTART:20240310T080000
END:DAYLIGHT
BEGIN:STANDARD
TZOFFSETFROM:-0500
TZOFFSETTO:-0600
TZNAME:CST
DTSTART:20241103T070000
END:STANDARD
BEGIN:DAYLIGHT
TZOFFSETFROM:-0600
TZOFFSETTO:-0500
TZNAME:CDT
DTSTART:20250309T080000
END:DAYLIGHT
BEGIN:STANDARD
TZOFFSETFROM:-0500
TZOFFSETTO:-0600
TZNAME:CST
DTSTART:20251102T070000
END:STANDARD
BEGIN:DAYLIGHT
TZOFFSETFROM:-0600
TZOFFSETTO:-0500
TZNAME:CDT
DTSTART:20260308T080000
END:DAYLIGHT
BEGIN:STANDARD
TZOFFSETFROM:-0500
TZOFFSETTO:-0600
TZNAME:CST
DTSTART:20261101T070000
END:STANDARD
END:VTIMEZONE
BEGIN:VEVENT
DTSTART;TZID=America/Chicago:20250719T110000
DTEND;TZID=America/Chicago:20250719T120000
DTSTAMP:20260425T170444
CREATED:20250710T194715Z
LAST-MODIFIED:20250711T112333Z
UID:10001364-1752922800-1752926400@empowerhousesa.org
SUMMARY:Homebuyer Workshop
DESCRIPTION:Homebuyer Workshop Topics \n\n\nSteps we can take to get ready \nOverview of the homebuying process \nHelpful tips for purchasing a home \nDate: July 19\, 2025 \nTime: 11am -12pm \nLocation: 801 N. Olive St. San Antonio\, TX 78202 \nRegister: https://form.jotform.com/251905741330148
URL:https://empowerhousesa.org/event/homebuyer-workshop/
LOCATION:801 N. Olive St.\, San Antonio\, Texas\, 78202
ATTACH;FMTTYPE=image/jpeg:https://empowerhousesa.org/wp-content/uploads/2025/07/Homebuyers-Workshop-1.jpg
END:VEVENT
BEGIN:VEVENT
DTSTART;TZID=America/Chicago:20250719T130000
DTEND;TZID=America/Chicago:20250719T143000
DTSTAMP:20260425T170444
CREATED:20250708T173431Z
LAST-MODIFIED:20250708T173431Z
UID:10001358-1752930000-1752935400@empowerhousesa.org
SUMMARY:Empower Choice Pregnancy Class
DESCRIPTION:Join other expecting moms for nutrition tips\, wellness guidance\, and holistic prenatal support. Register Here: bit.ly\EChoice
URL:https://empowerhousesa.org/event/empower-choice-pregnancy-class-2/
LOCATION:TX
ATTACH;FMTTYPE=image/png:https://empowerhousesa.org/wp-content/uploads/2025/07/Empower-Choice-Templates-2025.png
END:VEVENT
END:VCALENDAR