BEGIN:VCALENDAR
VERSION:2.0
PRODID:-//Empower House - ECPv6.15.18//NONSGML v1.0//EN
CALSCALE:GREGORIAN
METHOD:PUBLISH
X-ORIGINAL-URL:https://empowerhousesa.org
X-WR-CALDESC:Events for Empower House
REFRESH-INTERVAL;VALUE=DURATION:PT1H
X-Robots-Tag:noindex
X-PUBLISHED-TTL:PT1H
BEGIN:VTIMEZONE
TZID:America/Chicago
BEGIN:DAYLIGHT
TZOFFSETFROM:-0600
TZOFFSETTO:-0500
TZNAME:CDT
DTSTART:20240310T080000
END:DAYLIGHT
BEGIN:STANDARD
TZOFFSETFROM:-0500
TZOFFSETTO:-0600
TZNAME:CST
DTSTART:20241103T070000
END:STANDARD
BEGIN:DAYLIGHT
TZOFFSETFROM:-0600
TZOFFSETTO:-0500
TZNAME:CDT
DTSTART:20250309T080000
END:DAYLIGHT
BEGIN:STANDARD
TZOFFSETFROM:-0500
TZOFFSETTO:-0600
TZNAME:CST
DTSTART:20251102T070000
END:STANDARD
BEGIN:DAYLIGHT
TZOFFSETFROM:-0600
TZOFFSETTO:-0500
TZNAME:CDT
DTSTART:20260308T080000
END:DAYLIGHT
BEGIN:STANDARD
TZOFFSETFROM:-0500
TZOFFSETTO:-0600
TZNAME:CST
DTSTART:20261101T070000
END:STANDARD
END:VTIMEZONE
BEGIN:VEVENT
DTSTART;TZID=America/Chicago:20250716T100000
DTEND;TZID=America/Chicago:20250716T150000
DTSTAMP:20260425T170935
CREATED:20250702T144642Z
LAST-MODIFIED:20250724T193608Z
UID:10001066-1752660000-1752678000@empowerhousesa.org
SUMMARY:Typing Challenge
DESCRIPTION:Who is San Antonio’s fastest typist? Could it be you? We’re calling all keyboard warriors\, typists\, gamers\, and anyone ready to show off their speed and skill. Step up and prove you’re the fastest in the Alamo City! \nWe have made it easy to participate! \nWe have divided the typing challenge by age group! So\, get off the couch this summer and head over to Empower House and show off you typing skills. \nThe event starts July 7th thru August 7th. \nYou can take the typing challenge from 10am-3pm. Monday thru Thursday \nWinner in each age group will win a $20 HEB gift card. \nRegister below to reserve your time to take the typing challenge. (Winners will be announced on August 11th) \nLink: https://www.jotform.com/app/240814212349148/251814060084147
URL:https://empowerhousesa.org/event/typing-challenge/2025-07-16/
LOCATION:200 Donaldson Ave\, San Antonio\, TX 78201\, 200 Donaldson Ave.\, San Antonio\, TX\, 78201\, United States
ATTACH;FMTTYPE=image/png:https://empowerhousesa.org/wp-content/uploads/2025/07/Empower-Connects-Digi4al-Skills-Program-and-Workshop-Information.png
END:VEVENT
BEGIN:VEVENT
DTSTART;TZID=America/Chicago:20250716T110000
DTEND;TZID=America/Chicago:20250716T120000
DTSTAMP:20260425T170935
CREATED:20250509T135252Z
LAST-MODIFIED:20250511T162609Z
UID:10000842-1752663600-1752667200@empowerhousesa.org
SUMMARY:Intro to Microsoft Excel
DESCRIPTION:Unlock the power of spreadsheets! This beginner-friendly class will teach you the basics of Microsoft Excel\, including how to organize data\, use simple formulas\, and create charts. Whether you’re managing a budget\, tracking tasks\, or building your job skills\, Excel can help you work smarter. No prior experience needed—just bring your curiosity and a willingness to learn! \nLocation: 801 N. Olive St. San Antonio\, TX 78202 \nTime: 11:00am – 12:00pm \nRegister now at bit.ly/empowerconnects or scan the QR code on the flyer.
URL:https://empowerhousesa.org/event/intro-to-microsoft-excel-3/
LOCATION:801 N. Olive St.\, San Antonio\, Texas\, 78202
ATTACH;FMTTYPE=image/jpeg:https://empowerhousesa.org/wp-content/uploads/2025/05/Intro-to-Microsoft-Excel-1.jpg
END:VEVENT
END:VCALENDAR