BEGIN:VCALENDAR
VERSION:2.0
PRODID:-//Empower House - ECPv6.15.18//NONSGML v1.0//EN
CALSCALE:GREGORIAN
METHOD:PUBLISH
X-WR-CALNAME:Empower House
X-ORIGINAL-URL:https://empowerhousesa.org
X-WR-CALDESC:Events for Empower House
REFRESH-INTERVAL;VALUE=DURATION:PT1H
X-Robots-Tag:noindex
X-PUBLISHED-TTL:PT1H
BEGIN:VTIMEZONE
TZID:America/Chicago
BEGIN:DAYLIGHT
TZOFFSETFROM:-0600
TZOFFSETTO:-0500
TZNAME:CDT
DTSTART:20240310T080000
END:DAYLIGHT
BEGIN:STANDARD
TZOFFSETFROM:-0500
TZOFFSETTO:-0600
TZNAME:CST
DTSTART:20241103T070000
END:STANDARD
BEGIN:DAYLIGHT
TZOFFSETFROM:-0600
TZOFFSETTO:-0500
TZNAME:CDT
DTSTART:20250309T080000
END:DAYLIGHT
BEGIN:STANDARD
TZOFFSETFROM:-0500
TZOFFSETTO:-0600
TZNAME:CST
DTSTART:20251102T070000
END:STANDARD
BEGIN:DAYLIGHT
TZOFFSETFROM:-0600
TZOFFSETTO:-0500
TZNAME:CDT
DTSTART:20260308T080000
END:DAYLIGHT
BEGIN:STANDARD
TZOFFSETFROM:-0500
TZOFFSETTO:-0600
TZNAME:CST
DTSTART:20261101T070000
END:STANDARD
END:VTIMEZONE
BEGIN:VEVENT
DTSTART;TZID=America/Chicago:20250715T083000
DTEND;TZID=America/Chicago:20250715T103000
DTSTAMP:20260425T170535
CREATED:20250624T205757Z
LAST-MODIFIED:20250624T205757Z
UID:10000949-1752568200-1752575400@empowerhousesa.org
SUMMARY:Parenting Discussion Group
DESCRIPTION:Join us for a one-of-a-kind discussion group based on the FIVE key Principles of the Triple P-Positive Parenting Program. \nRegister Here: bit.ly/44h1oV2
URL:https://empowerhousesa.org/event/parenting-discussion-group-2/
LOCATION:TX
ATTACH;FMTTYPE=image/png:https://empowerhousesa.org/wp-content/uploads/2025/06/Copy-of-Empower-Parents-Flyers-2025.png
END:VEVENT
BEGIN:VEVENT
DTSTART;TZID=America/Chicago:20250715T100000
DTEND;TZID=America/Chicago:20250715T150000
DTSTAMP:20260425T170535
CREATED:20250702T144642Z
LAST-MODIFIED:20250724T193608Z
UID:10000962-1752573600-1752591600@empowerhousesa.org
SUMMARY:Typing Challenge
DESCRIPTION:Who is San Antonio’s fastest typist? Could it be you? We’re calling all keyboard warriors\, typists\, gamers\, and anyone ready to show off their speed and skill. Step up and prove you’re the fastest in the Alamo City! \nWe have made it easy to participate! \nWe have divided the typing challenge by age group! So\, get off the couch this summer and head over to Empower House and show off you typing skills. \nThe event starts July 7th thru August 7th. \nYou can take the typing challenge from 10am-3pm. Monday thru Thursday \nWinner in each age group will win a $20 HEB gift card. \nRegister below to reserve your time to take the typing challenge. (Winners will be announced on August 11th) \nLink: https://www.jotform.com/app/240814212349148/251814060084147
URL:https://empowerhousesa.org/event/typing-challenge/2025-07-15/
LOCATION:200 Donaldson Ave\, San Antonio\, TX 78201\, 200 Donaldson Ave.\, San Antonio\, TX\, 78201\, United States
ATTACH;FMTTYPE=image/png:https://empowerhousesa.org/wp-content/uploads/2025/07/Empower-Connects-Digi4al-Skills-Program-and-Workshop-Information.png
END:VEVENT
BEGIN:VEVENT
DTSTART;TZID=America/Chicago:20250715T110000
DTEND;TZID=America/Chicago:20250715T120000
DTSTAMP:20260425T170535
CREATED:20250509T135015Z
LAST-MODIFIED:20250509T142933Z
UID:10000841-1752577200-1752580800@empowerhousesa.org
SUMMARY:Intro to Microsoft Excel
DESCRIPTION:  \n \nUnlock the power of spreadsheets! This beginner-friendly class will teach you the basics of Microsoft Excel\, including how to organize data\, use simple formulas\, and create charts. Whether you’re managing a budget\, tracking tasks\, or building your job skills\, Excel can help you work smarter. No prior experience needed—just bring your curiosity and a willingness to learn! \nLocation: 801 N. Olive St. San Antonio\, TX 78202 \nRegistration Link: https://www.jotform.com/app/240814212349148/251194892881166
URL:https://empowerhousesa.org/event/intro-to-microsoft-excel-2/
LOCATION:801 N. Olive St.\, San Antonio\, Texas\, 78202
ATTACH;FMTTYPE=image/jpeg:https://empowerhousesa.org/wp-content/uploads/2025/05/Intro-to-Microsoft-Excel-1.jpg
END:VEVENT
BEGIN:VEVENT
DTSTART;TZID=America/Chicago:20250715T133000
DTEND;TZID=America/Chicago:20250715T143000
DTSTAMP:20260425T170535
CREATED:20250509T134641Z
LAST-MODIFIED:20250509T150242Z
UID:10000843-1752586200-1752589800@empowerhousesa.org
SUMMARY:Intro to Flipbook
DESCRIPTION:Learn how to create a flipbook\, a digital\, interactive booklet that looks and feels like a real book—pages turn with a click or swipe! It’s a fun and modern way to present documents\, reports\, presentations\, portfolios\, and more. Flipbook makes your content more engaging and easier to share online. \nLocation: 801 N. Olive St. San Antonio\, TX 78202 \nRegistration Link: https://www.jotform.com/app/240814212349148/251127593968166
URL:https://empowerhousesa.org/event/intro-to-flipbook/
LOCATION:801 N. Olive St.\, San Antonio\, Texas\, 78202
ATTACH;FMTTYPE=image/jpeg:https://empowerhousesa.org/wp-content/uploads/2025/05/Intro-to-Flipbook-1.jpg
END:VEVENT
END:VCALENDAR