BEGIN:VCALENDAR
VERSION:2.0
PRODID:-//Empower House - ECPv6.15.18//NONSGML v1.0//EN
CALSCALE:GREGORIAN
METHOD:PUBLISH
X-WR-CALNAME:Empower House
X-ORIGINAL-URL:https://empowerhousesa.org
X-WR-CALDESC:Events for Empower House
REFRESH-INTERVAL;VALUE=DURATION:PT1H
X-Robots-Tag:noindex
X-PUBLISHED-TTL:PT1H
BEGIN:VTIMEZONE
TZID:America/Chicago
BEGIN:DAYLIGHT
TZOFFSETFROM:-0600
TZOFFSETTO:-0500
TZNAME:CDT
DTSTART:20240310T080000
END:DAYLIGHT
BEGIN:STANDARD
TZOFFSETFROM:-0500
TZOFFSETTO:-0600
TZNAME:CST
DTSTART:20241103T070000
END:STANDARD
BEGIN:DAYLIGHT
TZOFFSETFROM:-0600
TZOFFSETTO:-0500
TZNAME:CDT
DTSTART:20250309T080000
END:DAYLIGHT
BEGIN:STANDARD
TZOFFSETFROM:-0500
TZOFFSETTO:-0600
TZNAME:CST
DTSTART:20251102T070000
END:STANDARD
BEGIN:DAYLIGHT
TZOFFSETFROM:-0600
TZOFFSETTO:-0500
TZNAME:CDT
DTSTART:20260308T080000
END:DAYLIGHT
BEGIN:STANDARD
TZOFFSETFROM:-0500
TZOFFSETTO:-0600
TZNAME:CST
DTSTART:20261101T070000
END:STANDARD
END:VTIMEZONE
BEGIN:VEVENT
DTSTART;TZID=America/Chicago:20250707T100000
DTEND;TZID=America/Chicago:20250707T150000
DTSTAMP:20260425T170412
CREATED:20250702T144642Z
LAST-MODIFIED:20250724T193608Z
UID:10000960-1751882400-1751900400@empowerhousesa.org
SUMMARY:Typing Challenge
DESCRIPTION:Who is San Antonio’s fastest typist? Could it be you? We’re calling all keyboard warriors\, typists\, gamers\, and anyone ready to show off their speed and skill. Step up and prove you’re the fastest in the Alamo City! \nWe have made it easy to participate! \nWe have divided the typing challenge by age group! So\, get off the couch this summer and head over to Empower House and show off you typing skills. \nThe event starts July 7th thru August 7th. \nYou can take the typing challenge from 10am-3pm. Monday thru Thursday \nWinner in each age group will win a $20 HEB gift card. \nRegister below to reserve your time to take the typing challenge. (Winners will be announced on August 11th) \nLink: https://www.jotform.com/app/240814212349148/251814060084147
URL:https://empowerhousesa.org/event/typing-challenge/2025-07-07/
LOCATION:200 Donaldson Ave\, San Antonio\, TX 78201\, 200 Donaldson Ave.\, San Antonio\, TX\, 78201\, United States
ATTACH;FMTTYPE=image/png:https://empowerhousesa.org/wp-content/uploads/2025/07/Empower-Connects-Digi4al-Skills-Program-and-Workshop-Information.png
END:VEVENT
BEGIN:VEVENT
DTSTART;TZID=America/Chicago:20250707T163000
DTEND;TZID=America/Chicago:20250707T173000
DTSTAMP:20260425T170412
CREATED:20250610T171910Z
LAST-MODIFIED:20251031T165618Z
UID:10001500-1751905800-1751909400@empowerhousesa.org
SUMMARY:Introducción a la Inteligencia Artificial
DESCRIPTION:Aprenda qué es la inteligencia artificial (IA)\, cómo se utiliza en la vida diaria y cómo puede aprovechar esta herramienta para tareas cotidianas como redactar correos o crear imágenes. Esta serie también incluye consejos para mantenerse seguro en línea y reconocer contenido generado por IA. \n👉 Regístrese en bit.ly/empowerconnects \n\n 
URL:https://empowerhousesa.org/event/introduccion-a-la-inteligencia-artificial/2025-07-07/
LOCATION:200 Donaldson Ave\, San Antonio\, TX 78201\, 200 Donaldson Ave.\, San Antonio\, TX\, 78201\, United States
ATTACH;FMTTYPE=image/jpeg:https://empowerhousesa.org/wp-content/uploads/2025/06/Empower-House-AI-Workshop-Series-in-Spanish.jpg
END:VEVENT
END:VCALENDAR