BEGIN:VCALENDAR
VERSION:2.0
PRODID:-//Empower House - ECPv6.15.18//NONSGML v1.0//EN
CALSCALE:GREGORIAN
METHOD:PUBLISH
X-ORIGINAL-URL:https://empowerhousesa.org
X-WR-CALDESC:Events for Empower House
REFRESH-INTERVAL;VALUE=DURATION:PT1H
X-Robots-Tag:noindex
X-PUBLISHED-TTL:PT1H
BEGIN:VTIMEZONE
TZID:America/Chicago
BEGIN:DAYLIGHT
TZOFFSETFROM:-0600
TZOFFSETTO:-0500
TZNAME:CDT
DTSTART:20240310T080000
END:DAYLIGHT
BEGIN:STANDARD
TZOFFSETFROM:-0500
TZOFFSETTO:-0600
TZNAME:CST
DTSTART:20241103T070000
END:STANDARD
BEGIN:DAYLIGHT
TZOFFSETFROM:-0600
TZOFFSETTO:-0500
TZNAME:CDT
DTSTART:20250309T080000
END:DAYLIGHT
BEGIN:STANDARD
TZOFFSETFROM:-0500
TZOFFSETTO:-0600
TZNAME:CST
DTSTART:20251102T070000
END:STANDARD
BEGIN:DAYLIGHT
TZOFFSETFROM:-0600
TZOFFSETTO:-0500
TZNAME:CDT
DTSTART:20260308T080000
END:DAYLIGHT
BEGIN:STANDARD
TZOFFSETFROM:-0500
TZOFFSETTO:-0600
TZNAME:CST
DTSTART:20261101T070000
END:STANDARD
END:VTIMEZONE
BEGIN:VEVENT
DTSTART;TZID=America/Chicago:20250702T100000
DTEND;TZID=America/Chicago:20250702T120000
DTSTAMP:20260425T200704
CREATED:20250610T132950Z
LAST-MODIFIED:20250610T133017Z
UID:10000853-1751450400-1751457600@empowerhousesa.org
SUMMARY:Partners in Peace (espanol)
DESCRIPTION:Únase a nosotros para un taller único en su tipo de diez semanas basado en los CINCO principios clave del programa Triple P de crianza positiva. ** Para los residentes del condado de Bexar\, Texas. inscríbese aquí: bit.ly/EHparents
URL:https://empowerhousesa.org/event/partners-in-peace-espanol/2025-07-02/
LOCATION:TX
ATTACH;FMTTYPE=image/png:https://empowerhousesa.org/wp-content/uploads/2025/06/3.png
END:VEVENT
BEGIN:VEVENT
DTSTART;TZID=America/Chicago:20250702T170000
DTEND;TZID=America/Chicago:20250702T190000
DTSTAMP:20260425T200704
CREATED:20250610T133659Z
LAST-MODIFIED:20250610T133659Z
UID:10000857-1751475600-1751482800@empowerhousesa.org
SUMMARY:Partners in Peace Level 4 Series
DESCRIPTION:Join us for a one-of-a-kind 8-week workshop based on the FIVE key Principles of the Triple P-Positive Parenting Program. ** Open to residents of Bexar County\, Texas only. Register here: bit.ly/EHparents
URL:https://empowerhousesa.org/event/partners-in-peace-level-4-series/2025-07-02/
LOCATION:TX
ATTACH;FMTTYPE=image/png:https://empowerhousesa.org/wp-content/uploads/2025/06/4.png
END:VEVENT
END:VCALENDAR