BEGIN:VCALENDAR
VERSION:2.0
PRODID:-//Empower House - ECPv6.15.18//NONSGML v1.0//EN
CALSCALE:GREGORIAN
METHOD:PUBLISH
X-ORIGINAL-URL:https://empowerhousesa.org
X-WR-CALDESC:Events for Empower House
REFRESH-INTERVAL;VALUE=DURATION:PT1H
X-Robots-Tag:noindex
X-PUBLISHED-TTL:PT1H
BEGIN:VTIMEZONE
TZID:America/Chicago
BEGIN:DAYLIGHT
TZOFFSETFROM:-0600
TZOFFSETTO:-0500
TZNAME:CDT
DTSTART:20240310T080000
END:DAYLIGHT
BEGIN:STANDARD
TZOFFSETFROM:-0500
TZOFFSETTO:-0600
TZNAME:CST
DTSTART:20241103T070000
END:STANDARD
BEGIN:DAYLIGHT
TZOFFSETFROM:-0600
TZOFFSETTO:-0500
TZNAME:CDT
DTSTART:20250309T080000
END:DAYLIGHT
BEGIN:STANDARD
TZOFFSETFROM:-0500
TZOFFSETTO:-0600
TZNAME:CST
DTSTART:20251102T070000
END:STANDARD
BEGIN:DAYLIGHT
TZOFFSETFROM:-0600
TZOFFSETTO:-0500
TZNAME:CDT
DTSTART:20260308T080000
END:DAYLIGHT
BEGIN:STANDARD
TZOFFSETFROM:-0500
TZOFFSETTO:-0600
TZNAME:CST
DTSTART:20261101T070000
END:STANDARD
END:VTIMEZONE
BEGIN:VEVENT
DTSTART;TZID=America/Chicago:20250618T100000
DTEND;TZID=America/Chicago:20250618T113000
DTSTAMP:20260425T224421
CREATED:20250506T135802Z
LAST-MODIFIED:20250506T135802Z
UID:10000835-1750240800-1750246200@empowerhousesa.org
SUMMARY:Intro to Microsoft 365
DESCRIPTION:Join us for a hands-on workshop designed to introduce you to the essential tools of Microsoft 365! Whether you’re new to the platform or just need a refresher\, this session will guide you through the basics of popular apps like Word\, Excel\, PowerPoint\, Outlook\, Bookings\, List\, Stream\, Engage\, Forms and OneDrive. \nIntro to Microsoft 365 – June 4\, 2025 – 10:00 am – 11:30 am (virtual) \nCore Apps (Word\, Excel\, Power Point & Outlook) – June 11\, 2025 – 10:00 am – 11:30 am (virtual) \nTask & Project Management Apps (To Do\, Planner\, List and Booking) – June 18\, 2025 – 10:00 am – 11:30 am (virtual) \nCommunication Apps – Forms and Stream – June 25\, 2025 – 10:00 am – 11:30 am (virtual) \nRegister at: http://bit.ly/empowerconnects
URL:https://empowerhousesa.org/event/intro-to-microsoft-365/2025-06-18/
LOCATION:TX
ATTACH;FMTTYPE=image/jpeg:https://empowerhousesa.org/wp-content/uploads/2025/05/Empower-Connects-Digital-Skills-Program-and-Workshop-Information.jpg
END:VEVENT
BEGIN:VEVENT
DTSTART;TZID=America/Chicago:20250618T100000
DTEND;TZID=America/Chicago:20250618T120000
DTSTAMP:20260425T224421
CREATED:20250610T132950Z
LAST-MODIFIED:20250610T133017Z
UID:10000851-1750240800-1750248000@empowerhousesa.org
SUMMARY:Partners in Peace (espanol)
DESCRIPTION:Únase a nosotros para un taller único en su tipo de diez semanas basado en los CINCO principios clave del programa Triple P de crianza positiva. ** Para los residentes del condado de Bexar\, Texas. inscríbese aquí: bit.ly/EHparents
URL:https://empowerhousesa.org/event/partners-in-peace-espanol/2025-06-18/
LOCATION:TX
ATTACH;FMTTYPE=image/png:https://empowerhousesa.org/wp-content/uploads/2025/06/3.png
END:VEVENT
BEGIN:VEVENT
DTSTART;TZID=America/Chicago:20250618T133000
DTEND;TZID=America/Chicago:20250618T153000
DTSTAMP:20260425T224421
CREATED:20250610T173259Z
LAST-MODIFIED:20250610T173259Z
UID:10000934-1750253400-1750260600@empowerhousesa.org
SUMMARY:Empower Choice: STI Awareness and Healthy Relationships
DESCRIPTION:This interactive workshop creates a safe space to talk about sexual health\, healthy relationships\, and how to protect yourself and others. Learn the facts\, ask questions\, and get connected to local resources for STI testing\, pregnancy testing\, and ongoing support. \n👉 Register at bit.ly/EChoice
URL:https://empowerhousesa.org/event/empower-choice-sti-awareness-and-healthy-relationships/
LOCATION:Carver Branch Library\, 3350 E Commerce St\, San Antonio\, TX\, 78220\, United States
ATTACH;FMTTYPE=image/jpeg:https://empowerhousesa.org/wp-content/uploads/2025/06/Workshop-Zine.zip-21.jpg
END:VEVENT
BEGIN:VEVENT
DTSTART;TZID=America/Chicago:20250618T170000
DTEND;TZID=America/Chicago:20250618T190000
DTSTAMP:20260425T224421
CREATED:20250610T133659Z
LAST-MODIFIED:20250610T133659Z
UID:10000855-1750266000-1750273200@empowerhousesa.org
SUMMARY:Partners in Peace Level 4 Series
DESCRIPTION:Join us for a one-of-a-kind 8-week workshop based on the FIVE key Principles of the Triple P-Positive Parenting Program. ** Open to residents of Bexar County\, Texas only. Register here: bit.ly/EHparents
URL:https://empowerhousesa.org/event/partners-in-peace-level-4-series/2025-06-18/
LOCATION:TX
ATTACH;FMTTYPE=image/png:https://empowerhousesa.org/wp-content/uploads/2025/06/4.png
END:VEVENT
END:VCALENDAR