BEGIN:VCALENDAR
VERSION:2.0
PRODID:-//Empower House - ECPv6.15.18//NONSGML v1.0//EN
CALSCALE:GREGORIAN
METHOD:PUBLISH
X-ORIGINAL-URL:https://empowerhousesa.org
X-WR-CALDESC:Events for Empower House
REFRESH-INTERVAL;VALUE=DURATION:PT1H
X-Robots-Tag:noindex
X-PUBLISHED-TTL:PT1H
BEGIN:VTIMEZONE
TZID:America/Chicago
BEGIN:DAYLIGHT
TZOFFSETFROM:-0600
TZOFFSETTO:-0500
TZNAME:CDT
DTSTART:20240310T080000
END:DAYLIGHT
BEGIN:STANDARD
TZOFFSETFROM:-0500
TZOFFSETTO:-0600
TZNAME:CST
DTSTART:20241103T070000
END:STANDARD
BEGIN:DAYLIGHT
TZOFFSETFROM:-0600
TZOFFSETTO:-0500
TZNAME:CDT
DTSTART:20250309T080000
END:DAYLIGHT
BEGIN:STANDARD
TZOFFSETFROM:-0500
TZOFFSETTO:-0600
TZNAME:CST
DTSTART:20251102T070000
END:STANDARD
BEGIN:DAYLIGHT
TZOFFSETFROM:-0600
TZOFFSETTO:-0500
TZNAME:CDT
DTSTART:20260308T080000
END:DAYLIGHT
BEGIN:STANDARD
TZOFFSETFROM:-0500
TZOFFSETTO:-0600
TZNAME:CST
DTSTART:20261101T070000
END:STANDARD
END:VTIMEZONE
BEGIN:VEVENT
DTSTART;TZID=America/Chicago:20250617T083000
DTEND;TZID=America/Chicago:20250617T103000
DTSTAMP:20260425T200603
CREATED:20250610T130741Z
LAST-MODIFIED:20250610T130742Z
UID:10000849-1750149000-1750156200@empowerhousesa.org
SUMMARY:Triple P Seminar: Raising Confident Competent Children
DESCRIPTION:Join us for a one-of-a-kind seminar based on the FIVE key Principles of the Triple P-Positive Parenting Program.  Open to residents of Bexar County\, Texas only. Register today: bit.ly/EHparents
URL:https://empowerhousesa.org/event/triple-p-seminar-raising-confident-competent-children/
LOCATION:801 N. Olive St.\, San Antonio\, Texas\, 78202
ATTACH;FMTTYPE=image/png:https://empowerhousesa.org/wp-content/uploads/2025/06/8.png
END:VEVENT
BEGIN:VEVENT
DTSTART;TZID=America/Chicago:20250617T103000
DTEND;TZID=America/Chicago:20250617T120000
DTSTAMP:20260425T200603
CREATED:20250610T183506Z
LAST-MODIFIED:20250610T183506Z
UID:10000939-1750156200-1750161600@empowerhousesa.org
SUMMARY:Empowerment Through Planning
DESCRIPTION:Empowerment Through Planning: Sacred Transitions \n📅 June 17 | 🕥 10:30 a.m. – 12:00 p.m. \nLearn about end-of-life doula services and how they support individuals and families through sacred\, intentional transitions. \nPeace of Mind \n📅 June 24 | 🕥 10:30 a.m. – 12:00 p.m. \nGet a clear overview of the essential documents you should have in place to be prepared for life-altering events. \n📍Both events will be held at Lockwood Park\, 801 N. Olive St.\, San Antonio\, TX 78202. Register using the QR code on the flyer. \n 
URL:https://empowerhousesa.org/event/empowerment-through-planning/
LOCATION:801 N. Olive St.\, San Antonio\, Texas\, 78202
ATTACH;FMTTYPE=image/png:https://empowerhousesa.org/wp-content/uploads/2025/06/Empower-Women-Flyers-2025.png.png
END:VEVENT
END:VCALENDAR