BEGIN:VCALENDAR
VERSION:2.0
PRODID:-//Empower House - ECPv6.15.18//NONSGML v1.0//EN
CALSCALE:GREGORIAN
METHOD:PUBLISH
X-ORIGINAL-URL:https://empowerhousesa.org
X-WR-CALDESC:Events for Empower House
REFRESH-INTERVAL;VALUE=DURATION:PT1H
X-Robots-Tag:noindex
X-PUBLISHED-TTL:PT1H
BEGIN:VTIMEZONE
TZID:America/Chicago
BEGIN:DAYLIGHT
TZOFFSETFROM:-0600
TZOFFSETTO:-0500
TZNAME:CDT
DTSTART:20240310T080000
END:DAYLIGHT
BEGIN:STANDARD
TZOFFSETFROM:-0500
TZOFFSETTO:-0600
TZNAME:CST
DTSTART:20241103T070000
END:STANDARD
BEGIN:DAYLIGHT
TZOFFSETFROM:-0600
TZOFFSETTO:-0500
TZNAME:CDT
DTSTART:20250309T080000
END:DAYLIGHT
BEGIN:STANDARD
TZOFFSETFROM:-0500
TZOFFSETTO:-0600
TZNAME:CST
DTSTART:20251102T070000
END:STANDARD
BEGIN:DAYLIGHT
TZOFFSETFROM:-0600
TZOFFSETTO:-0500
TZNAME:CDT
DTSTART:20260308T080000
END:DAYLIGHT
BEGIN:STANDARD
TZOFFSETFROM:-0500
TZOFFSETTO:-0600
TZNAME:CST
DTSTART:20261101T070000
END:STANDARD
END:VTIMEZONE
BEGIN:VEVENT
DTSTART;TZID=America/Chicago:20250612T133000
DTEND;TZID=America/Chicago:20250612T153000
DTSTAMP:20260425T184744
CREATED:20250610T173812Z
LAST-MODIFIED:20250610T175729Z
UID:10000935-1749735000-1749742200@empowerhousesa.org
SUMMARY:Empower Choice: Introduction to Reproductive Health
DESCRIPTION:This workshop offers a welcoming space to learn the basics of reproductive health\, including how it affects people of all genders and how to access care. Whether you’re new to the topic or want a refresher\, this session provides inclusive\, judgment-free guidance and resources. Virtual participation is available. \n👉 Register at bit.ly/EChoice
URL:https://empowerhousesa.org/event/empower-choice-introduction-to-reproductive-health/
LOCATION:Carver Branch Library\, 3350 E Commerce St\, San Antonio\, TX\, 78220\, United States
ATTACH;FMTTYPE=image/jpeg:https://empowerhousesa.org/wp-content/uploads/2025/06/Workshop-Zine.zip-20.jpg
END:VEVENT
END:VCALENDAR