BEGIN:VCALENDAR
VERSION:2.0
PRODID:-//Empower House - ECPv6.15.18//NONSGML v1.0//EN
CALSCALE:GREGORIAN
METHOD:PUBLISH
X-ORIGINAL-URL:https://empowerhousesa.org
X-WR-CALDESC:Events for Empower House
REFRESH-INTERVAL;VALUE=DURATION:PT1H
X-Robots-Tag:noindex
X-PUBLISHED-TTL:PT1H
BEGIN:VTIMEZONE
TZID:America/Chicago
BEGIN:DAYLIGHT
TZOFFSETFROM:-0600
TZOFFSETTO:-0500
TZNAME:CDT
DTSTART:20240310T080000
END:DAYLIGHT
BEGIN:STANDARD
TZOFFSETFROM:-0500
TZOFFSETTO:-0600
TZNAME:CST
DTSTART:20241103T070000
END:STANDARD
BEGIN:DAYLIGHT
TZOFFSETFROM:-0600
TZOFFSETTO:-0500
TZNAME:CDT
DTSTART:20250309T080000
END:DAYLIGHT
BEGIN:STANDARD
TZOFFSETFROM:-0500
TZOFFSETTO:-0600
TZNAME:CST
DTSTART:20251102T070000
END:STANDARD
BEGIN:DAYLIGHT
TZOFFSETFROM:-0600
TZOFFSETTO:-0500
TZNAME:CDT
DTSTART:20260308T080000
END:DAYLIGHT
BEGIN:STANDARD
TZOFFSETFROM:-0500
TZOFFSETTO:-0600
TZNAME:CST
DTSTART:20261101T070000
END:STANDARD
END:VTIMEZONE
BEGIN:VEVENT
DTSTART;TZID=America/Chicago:20250611T100000
DTEND;TZID=America/Chicago:20250611T113000
DTSTAMP:20260425T184739
CREATED:20250506T135802Z
LAST-MODIFIED:20250506T135802Z
UID:10000834-1749636000-1749641400@empowerhousesa.org
SUMMARY:Intro to Microsoft 365
DESCRIPTION:Join us for a hands-on workshop designed to introduce you to the essential tools of Microsoft 365! Whether you’re new to the platform or just need a refresher\, this session will guide you through the basics of popular apps like Word\, Excel\, PowerPoint\, Outlook\, Bookings\, List\, Stream\, Engage\, Forms and OneDrive. \nIntro to Microsoft 365 – June 4\, 2025 – 10:00 am – 11:30 am (virtual) \nCore Apps (Word\, Excel\, Power Point & Outlook) – June 11\, 2025 – 10:00 am – 11:30 am (virtual) \nTask & Project Management Apps (To Do\, Planner\, List and Booking) – June 18\, 2025 – 10:00 am – 11:30 am (virtual) \nCommunication Apps – Forms and Stream – June 25\, 2025 – 10:00 am – 11:30 am (virtual) \nRegister at: http://bit.ly/empowerconnects
URL:https://empowerhousesa.org/event/intro-to-microsoft-365/2025-06-11/
LOCATION:TX
ATTACH;FMTTYPE=image/jpeg:https://empowerhousesa.org/wp-content/uploads/2025/05/Empower-Connects-Digital-Skills-Program-and-Workshop-Information.jpg
END:VEVENT
BEGIN:VEVENT
DTSTART;TZID=America/Chicago:20250611T100000
DTEND;TZID=America/Chicago:20250611T120000
DTSTAMP:20260425T184739
CREATED:20250610T180921Z
LAST-MODIFIED:20250610T180921Z
UID:10000936-1749636000-1749643200@empowerhousesa.org
SUMMARY:Empower Choice: 10-Week Course for Pregnant Individuals
DESCRIPTION:This supportive series is designed to help you prepare for parenthood with confidence. Over the course of 10 weeks\, participants will connect with empowering workshops on reproductive health\, contraception\, and STI prevention\, while also accessing wraparound services like benefits counseling\, mental health support\, and acupuncture. \nSessions are held weekly and include time for reflection\, questions\, and community-building. Open to pregnant individuals of all backgrounds. Classes are offered both virtually and in person. Bilingual classes available. \n👉 Register at bit.ly/EChoice
URL:https://empowerhousesa.org/event/empower-choice-10-week-course-for-pregnant-individuals/
LOCATION:200 Donaldson Ave\, San Antonio\, TX 78201\, 200 Donaldson Ave.\, San Antonio\, TX\, 78201\, United States
ATTACH;FMTTYPE=image/jpeg:https://empowerhousesa.org/wp-content/uploads/2025/06/Workshop-Zine.jpg.jpg
END:VEVENT
BEGIN:VEVENT
DTSTART;TZID=America/Chicago:20250611T110000
DTEND;TZID=America/Chicago:20250611T120000
DTSTAMP:20260425T184739
CREATED:20250402T172850Z
LAST-MODIFIED:20250509T152459Z
UID:10000820-1749639600-1749643200@empowerhousesa.org
SUMMARY:Internet Safety Workshop
DESCRIPTION:Protect your data. Protect yourself. \nJoin us for a free Internet Safety Workshop and learn how to spot scams\, create strong passwords\, and browse safely online! \nDate: June 11\, 2025 \nTime: 11 AM – 12 PM \nLocation: Virtual/Zoom \nRegister now at bit.ly/empowerconnects or scan the QR code on the flyer!
URL:https://empowerhousesa.org/event/internet-safety-workshop/
LOCATION:Virtual Through ZOOM
ATTACH;FMTTYPE=image/jpeg:https://empowerhousesa.org/wp-content/uploads/2025/04/Internet-Safety-Workshop-June.jpg
END:VEVENT
END:VCALENDAR