BEGIN:VCALENDAR
VERSION:2.0
PRODID:-//Empower House - ECPv6.15.18//NONSGML v1.0//EN
CALSCALE:GREGORIAN
METHOD:PUBLISH
X-ORIGINAL-URL:https://empowerhousesa.org
X-WR-CALDESC:Events for Empower House
REFRESH-INTERVAL;VALUE=DURATION:PT1H
X-Robots-Tag:noindex
X-PUBLISHED-TTL:PT1H
BEGIN:VTIMEZONE
TZID:America/Chicago
BEGIN:DAYLIGHT
TZOFFSETFROM:-0600
TZOFFSETTO:-0500
TZNAME:CDT
DTSTART:20240310T080000
END:DAYLIGHT
BEGIN:STANDARD
TZOFFSETFROM:-0500
TZOFFSETTO:-0600
TZNAME:CST
DTSTART:20241103T070000
END:STANDARD
BEGIN:DAYLIGHT
TZOFFSETFROM:-0600
TZOFFSETTO:-0500
TZNAME:CDT
DTSTART:20250309T080000
END:DAYLIGHT
BEGIN:STANDARD
TZOFFSETFROM:-0500
TZOFFSETTO:-0600
TZNAME:CST
DTSTART:20251102T070000
END:STANDARD
BEGIN:DAYLIGHT
TZOFFSETFROM:-0600
TZOFFSETTO:-0500
TZNAME:CDT
DTSTART:20260308T080000
END:DAYLIGHT
BEGIN:STANDARD
TZOFFSETFROM:-0500
TZOFFSETTO:-0600
TZNAME:CST
DTSTART:20261101T070000
END:STANDARD
END:VTIMEZONE
BEGIN:VEVENT
DTSTART;TZID=America/Chicago:20250603T103000
DTEND;TZID=America/Chicago:20250603T113000
DTSTAMP:20260425T225219
CREATED:20250505T195919Z
LAST-MODIFIED:20250505T195919Z
UID:10000825-1748946600-1748950200@empowerhousesa.org
SUMMARY:Career Development 102
DESCRIPTION:In this workshop you will learn the following career development strategies to maintain your job and advance your career: 1) Time management skills for work and everyday life. 2)Communicate Effectively at work. 3) Leadership skills to have in your tool belt. 4) How to climb the ladder of success at the workplace. 5) Career advancement tips. \nTime Management and Communication Skills – June 2\, 2025 \nLeadership Skills\, How to climb the ladder of success in the the workplace & Career Development tips – June 3\, 2025 \nRegister at: bit.ly/empowerconnects
URL:https://empowerhousesa.org/event/career-development-102/2025-06-03/
LOCATION:200 Donaldson Ave\, San Antonio\, TX 78201\, 200 Donaldson Ave.\, San Antonio\, TX\, 78201\, United States
ATTACH;FMTTYPE=image/png:https://empowerhousesa.org/wp-content/uploads/2025/05/Empower-Connects-Digital-Skills-Program-and-Workshop-Information.png
END:VEVENT
END:VCALENDAR