BEGIN:VCALENDAR
VERSION:2.0
PRODID:-//Empower House - ECPv6.15.18//NONSGML v1.0//EN
CALSCALE:GREGORIAN
METHOD:PUBLISH
X-ORIGINAL-URL:https://empowerhousesa.org
X-WR-CALDESC:Events for Empower House
REFRESH-INTERVAL;VALUE=DURATION:PT1H
X-Robots-Tag:noindex
X-PUBLISHED-TTL:PT1H
BEGIN:VTIMEZONE
TZID:America/Chicago
BEGIN:DAYLIGHT
TZOFFSETFROM:-0600
TZOFFSETTO:-0500
TZNAME:CDT
DTSTART:20240310T080000
END:DAYLIGHT
BEGIN:STANDARD
TZOFFSETFROM:-0500
TZOFFSETTO:-0600
TZNAME:CST
DTSTART:20241103T070000
END:STANDARD
BEGIN:DAYLIGHT
TZOFFSETFROM:-0600
TZOFFSETTO:-0500
TZNAME:CDT
DTSTART:20250309T080000
END:DAYLIGHT
BEGIN:STANDARD
TZOFFSETFROM:-0500
TZOFFSETTO:-0600
TZNAME:CST
DTSTART:20251102T070000
END:STANDARD
BEGIN:DAYLIGHT
TZOFFSETFROM:-0600
TZOFFSETTO:-0500
TZNAME:CDT
DTSTART:20260308T080000
END:DAYLIGHT
BEGIN:STANDARD
TZOFFSETFROM:-0500
TZOFFSETTO:-0600
TZNAME:CST
DTSTART:20261101T070000
END:STANDARD
END:VTIMEZONE
BEGIN:VEVENT
DTSTART;TZID=America/Chicago:20250522T110000
DTEND;TZID=America/Chicago:20250522T120000
DTSTAMP:20260425T225209
CREATED:20250402T172522Z
LAST-MODIFIED:20250402T172523Z
UID:10000818-1747911600-1747915200@empowerhousesa.org
SUMMARY:Google Sheets Workshop Series
DESCRIPTION:Want to feel confident using spreadsheets? \nJoin our Google Sheets Workshop Series and learn how to create spreadsheets\, use formulas\, and build charts like a pro! \nDates: May 22 & 23 | 11 AM – 12 PM \nLocation: 200 Donaldson Ave\, San Antonio\, TX 78201 \nBonus: Complete the course and get a $20 HEB Gift Card! \nRegister now at bit.ly/empowerconnects or scan the QR code on the flyer.
URL:https://empowerhousesa.org/event/google-sheets-workshop-series-2/2025-05-22/
LOCATION:200 Donaldson Ave\, San Antonio\, TX 78201\, 200 Donaldson Ave.\, San Antonio\, TX\, 78201\, United States
ATTACH;FMTTYPE=image/jpeg:https://empowerhousesa.org/wp-content/uploads/2025/04/Google-Sheets-Workshop-Series-May.jpg
END:VEVENT
BEGIN:VEVENT
DTSTART;TZID=America/Chicago:20250522T110000
DTEND;TZID=America/Chicago:20250522T123000
DTSTAMP:20260425T225209
CREATED:20250505T201028Z
LAST-MODIFIED:20250505T201028Z
UID:10000827-1747911600-1747917000@empowerhousesa.org
SUMMARY:Triple-P Positive Parenting (Level 4) 2025
DESCRIPTION:Hello Parents! Join us for a one-of-a-kind 10 week workshop based on the FIVE key Principles of the Triple P-Positive Parenting Program. ** Open to residents of Bexar County\, Texas only.\n\nRegister at: bit.ly/EHparents\n\n\n\n¡Hola padres! Únase a nosotros para un taller único en su tipo de diez semanas basado en los CINCO principios clave del programa Triple P de crianza positiva. ** Para los residentes del condado de Bexar\, Texas\n\n\n\nRegister at: bit.ly/EHparents
URL:https://empowerhousesa.org/event/triple-p-positive-parenting-level-4-2025/2025-05-22/
LOCATION:TX
ATTACH;FMTTYPE=image/png:https://empowerhousesa.org/wp-content/uploads/2025/05/Empower-Parents-Flyers-2025.png
END:VEVENT
BEGIN:VEVENT
DTSTART;TZID=America/Chicago:20250522T110000
DTEND;TZID=America/Chicago:20250523T120000
DTSTAMP:20260425T225209
CREATED:20250415T164134Z
LAST-MODIFIED:20250415T164134Z
UID:10000821-1747911600-1748001600@empowerhousesa.org
SUMMARY:Google Sheets Workshop Series
DESCRIPTION:Ready to level up your digital skills? \nJoin us for a free Google Sheets Workshop Series at Empower House! \nLearn how to: \n• Create spreadsheets \n• Generate formulas \n• Insert charts—and more! \nDates: May 22 & 23\, 2025 \nTime: 11:00 AM – 12:00 PM \nLocation: 200 Donaldson Ave\, San Antonio\, TX 78201 \nRegister at: bit.ly/empowerconnects
URL:https://empowerhousesa.org/event/google-sheets-workshop-series-3/2025-05-22/
LOCATION:200 Donaldson Ave\, San Antonio\, TX 78201\, 200 Donaldson Ave.\, San Antonio\, TX\, 78201\, United States
ATTACH;FMTTYPE=image/jpeg:https://empowerhousesa.org/wp-content/uploads/2025/04/IMG_3076.jpeg
END:VEVENT
END:VCALENDAR