BEGIN:VCALENDAR
VERSION:2.0
PRODID:-//Empower House - ECPv6.15.18//NONSGML v1.0//EN
CALSCALE:GREGORIAN
METHOD:PUBLISH
X-ORIGINAL-URL:https://empowerhousesa.org
X-WR-CALDESC:Events for Empower House
REFRESH-INTERVAL;VALUE=DURATION:PT1H
X-Robots-Tag:noindex
X-PUBLISHED-TTL:PT1H
BEGIN:VTIMEZONE
TZID:America/Chicago
BEGIN:DAYLIGHT
TZOFFSETFROM:-0600
TZOFFSETTO:-0500
TZNAME:CDT
DTSTART:20240310T080000
END:DAYLIGHT
BEGIN:STANDARD
TZOFFSETFROM:-0500
TZOFFSETTO:-0600
TZNAME:CST
DTSTART:20241103T070000
END:STANDARD
BEGIN:DAYLIGHT
TZOFFSETFROM:-0600
TZOFFSETTO:-0500
TZNAME:CDT
DTSTART:20250309T080000
END:DAYLIGHT
BEGIN:STANDARD
TZOFFSETFROM:-0500
TZOFFSETTO:-0600
TZNAME:CST
DTSTART:20251102T070000
END:STANDARD
BEGIN:DAYLIGHT
TZOFFSETFROM:-0600
TZOFFSETTO:-0500
TZNAME:CDT
DTSTART:20260308T080000
END:DAYLIGHT
BEGIN:STANDARD
TZOFFSETFROM:-0500
TZOFFSETTO:-0600
TZNAME:CST
DTSTART:20261101T070000
END:STANDARD
END:VTIMEZONE
BEGIN:VEVENT
DTSTART;TZID=America/Chicago:20250515T180000
DTEND;TZID=America/Chicago:20250515T193000
DTSTAMP:20260425T225305
CREATED:20250505T201028Z
LAST-MODIFIED:20250505T201028Z
UID:10000826-1747332000-1747337400@empowerhousesa.org
SUMMARY:Triple-P Positive Parenting (Level 4) 2025
DESCRIPTION:Hello Parents! Join us for a one-of-a-kind 10 week workshop based on the FIVE key Principles of the Triple P-Positive Parenting Program. ** Open to residents of Bexar County\, Texas only.\n\nRegister at: bit.ly/EHparents\n\n\n\n¡Hola padres! Únase a nosotros para un taller único en su tipo de diez semanas basado en los CINCO principios clave del programa Triple P de crianza positiva. ** Para los residentes del condado de Bexar\, Texas\n\n\n\nRegister at: bit.ly/EHparents
URL:https://empowerhousesa.org/event/triple-p-positive-parenting-level-4-2025/2025-05-15/
LOCATION:TX
ATTACH;FMTTYPE=image/png:https://empowerhousesa.org/wp-content/uploads/2025/05/Empower-Parents-Flyers-2025.png
END:VEVENT
END:VCALENDAR