BEGIN:VCALENDAR
VERSION:2.0
PRODID:-//Empower House - ECPv6.15.18//NONSGML v1.0//EN
CALSCALE:GREGORIAN
METHOD:PUBLISH
X-ORIGINAL-URL:https://empowerhousesa.org
X-WR-CALDESC:Events for Empower House
REFRESH-INTERVAL;VALUE=DURATION:PT1H
X-Robots-Tag:noindex
X-PUBLISHED-TTL:PT1H
BEGIN:VTIMEZONE
TZID:America/Chicago
BEGIN:DAYLIGHT
TZOFFSETFROM:-0600
TZOFFSETTO:-0500
TZNAME:CDT
DTSTART:20240310T080000
END:DAYLIGHT
BEGIN:STANDARD
TZOFFSETFROM:-0500
TZOFFSETTO:-0600
TZNAME:CST
DTSTART:20241103T070000
END:STANDARD
BEGIN:DAYLIGHT
TZOFFSETFROM:-0600
TZOFFSETTO:-0500
TZNAME:CDT
DTSTART:20250309T080000
END:DAYLIGHT
BEGIN:STANDARD
TZOFFSETFROM:-0500
TZOFFSETTO:-0600
TZNAME:CST
DTSTART:20251102T070000
END:STANDARD
BEGIN:DAYLIGHT
TZOFFSETFROM:-0600
TZOFFSETTO:-0500
TZNAME:CDT
DTSTART:20260308T080000
END:DAYLIGHT
BEGIN:STANDARD
TZOFFSETFROM:-0500
TZOFFSETTO:-0600
TZNAME:CST
DTSTART:20261101T070000
END:STANDARD
END:VTIMEZONE
BEGIN:VEVENT
DTSTART;TZID=America/Chicago:20250506T080000
DTEND;TZID=America/Chicago:20250506T170000
DTSTAMP:20260425T213148
CREATED:20250506T135802Z
LAST-MODIFIED:20250506T135802Z
UID:10000832-1746518400-1746550800@empowerhousesa.org
SUMMARY:Intro to Microsoft 365
DESCRIPTION:Join us for a hands-on workshop designed to introduce you to the essential tools of Microsoft 365! Whether you’re new to the platform or just need a refresher\, this session will guide you through the basics of popular apps like Word\, Excel\, PowerPoint\, Outlook\, Bookings\, List\, Stream\, Engage\, Forms and OneDrive. \nIntro to Microsoft 365 – June 4\, 2025 – 10:00 am – 11:30 am (virtual) \nCore Apps (Word\, Excel\, Power Point & Outlook) – June 11\, 2025 – 10:00 am – 11:30 am (virtual) \nTask & Project Management Apps (To Do\, Planner\, List and Booking) – June 18\, 2025 – 10:00 am – 11:30 am (virtual) \nCommunication Apps – Forms and Stream – June 25\, 2025 – 10:00 am – 11:30 am (virtual) \nRegister at: http://bit.ly/empowerconnects
URL:https://empowerhousesa.org/event/intro-to-microsoft-365/2025-05-06/
LOCATION:TX
ATTACH;FMTTYPE=image/jpeg:https://empowerhousesa.org/wp-content/uploads/2025/05/Empower-Connects-Digital-Skills-Program-and-Workshop-Information.jpg
END:VEVENT
BEGIN:VEVENT
DTSTART;TZID=America/Chicago:20250506T110000
DTEND;TZID=America/Chicago:20250506T120000
DTSTAMP:20260425T213148
CREATED:20250402T170035Z
LAST-MODIFIED:20250402T170035Z
UID:10000814-1746529200-1746532800@empowerhousesa.org
SUMMARY:Financial Literacy Workshop Series
DESCRIPTION:Ready to take control of your money? \nJoin us for a free Financial Literacy Workshop Series and learn how to budget\, build credit\, and manage your spending with confidence! \nWhen: May 5\, 6 & 8 | 11 AM – 12 PM \nWhere: 200 Donaldson Ave\, San Antonio\, TX 78210 \nSpots are limited—register now at bit.ly/empowerconnects or scan the QR code!
URL:https://empowerhousesa.org/event/financial-literacy-workshop-series/2025-05-06/
LOCATION:200 Donaldson Ave\, San Antonio\, TX 78201\, 200 Donaldson Ave.\, San Antonio\, TX\, 78201\, United States
ATTACH;FMTTYPE=image/jpeg:https://empowerhousesa.org/wp-content/uploads/2025/04/Financial-Literacy-Workshop-Series.jpg
END:VEVENT
END:VCALENDAR