BEGIN:VCALENDAR
VERSION:2.0
PRODID:-//Empower House - ECPv6.15.18//NONSGML v1.0//EN
CALSCALE:GREGORIAN
METHOD:PUBLISH
X-WR-CALNAME:Empower House
X-ORIGINAL-URL:https://empowerhousesa.org
X-WR-CALDESC:Events for Empower House
REFRESH-INTERVAL;VALUE=DURATION:PT1H
X-Robots-Tag:noindex
X-PUBLISHED-TTL:PT1H
BEGIN:VTIMEZONE
TZID:America/Chicago
BEGIN:DAYLIGHT
TZOFFSETFROM:-0600
TZOFFSETTO:-0500
TZNAME:CDT
DTSTART:20240310T080000
END:DAYLIGHT
BEGIN:STANDARD
TZOFFSETFROM:-0500
TZOFFSETTO:-0600
TZNAME:CST
DTSTART:20241103T070000
END:STANDARD
BEGIN:DAYLIGHT
TZOFFSETFROM:-0600
TZOFFSETTO:-0500
TZNAME:CDT
DTSTART:20250309T080000
END:DAYLIGHT
BEGIN:STANDARD
TZOFFSETFROM:-0500
TZOFFSETTO:-0600
TZNAME:CST
DTSTART:20251102T070000
END:STANDARD
BEGIN:DAYLIGHT
TZOFFSETFROM:-0600
TZOFFSETTO:-0500
TZNAME:CDT
DTSTART:20260308T080000
END:DAYLIGHT
BEGIN:STANDARD
TZOFFSETFROM:-0500
TZOFFSETTO:-0600
TZNAME:CST
DTSTART:20261101T070000
END:STANDARD
END:VTIMEZONE
BEGIN:VEVENT
DTSTART;TZID=America/Chicago:20250404T100000
DTEND;TZID=America/Chicago:20250404T120000
DTSTAMP:20260425T215835
CREATED:20250315T150324Z
LAST-MODIFIED:20250315T150324Z
UID:10000795-1743760800-1743768000@empowerhousesa.org
SUMMARY:Financial Literacy Workshop: The Basics of Investing
DESCRIPTION:Financial Literacy/The basics of investing\nCome learn how to plan your financial future!\nThe basics of Investing will cover the following topics: \n\n\nAre You Ready to Invest\n\n\nTalking the Talk\n\n\nFour Steps to Becoming an Investor\n\n\nWhat Kind of Investor Are You?\n\n\nRegister at: bit.ly/empowerconnects
URL:https://empowerhousesa.org/event/financial-literacy-workshop-the-basics-of-investing/
LOCATION:5308 Wurzbach Rd. Leon Valley\, TX 78238\, 5308 Wurzbach Rd.\, Leon Valley\, TX\, 78238
ATTACH;FMTTYPE=image/jpeg:https://empowerhousesa.org/wp-content/uploads/2025/03/Outlook-i5mwx1ts.jpg
END:VEVENT
END:VCALENDAR