BEGIN:VCALENDAR
VERSION:2.0
PRODID:-//Empower House - ECPv6.15.18//NONSGML v1.0//EN
CALSCALE:GREGORIAN
METHOD:PUBLISH
X-WR-CALNAME:Empower House
X-ORIGINAL-URL:https://empowerhousesa.org
X-WR-CALDESC:Events for Empower House
REFRESH-INTERVAL;VALUE=DURATION:PT1H
X-Robots-Tag:noindex
X-PUBLISHED-TTL:PT1H
BEGIN:VTIMEZONE
TZID:America/Chicago
BEGIN:DAYLIGHT
TZOFFSETFROM:-0600
TZOFFSETTO:-0500
TZNAME:CDT
DTSTART:20240310T080000
END:DAYLIGHT
BEGIN:STANDARD
TZOFFSETFROM:-0500
TZOFFSETTO:-0600
TZNAME:CST
DTSTART:20241103T070000
END:STANDARD
BEGIN:DAYLIGHT
TZOFFSETFROM:-0600
TZOFFSETTO:-0500
TZNAME:CDT
DTSTART:20250309T080000
END:DAYLIGHT
BEGIN:STANDARD
TZOFFSETFROM:-0500
TZOFFSETTO:-0600
TZNAME:CST
DTSTART:20251102T070000
END:STANDARD
BEGIN:DAYLIGHT
TZOFFSETFROM:-0600
TZOFFSETTO:-0500
TZNAME:CDT
DTSTART:20260308T080000
END:DAYLIGHT
BEGIN:STANDARD
TZOFFSETFROM:-0500
TZOFFSETTO:-0600
TZNAME:CST
DTSTART:20261101T070000
END:STANDARD
END:VTIMEZONE
BEGIN:VEVENT
DTSTART;TZID=America/Chicago:20250325T100000
DTEND;TZID=America/Chicago:20250325T110000
DTSTAMP:20260425T215840
CREATED:20250204T211548Z
LAST-MODIFIED:20250206T222304Z
UID:10000461-1742896800-1742900400@empowerhousesa.org
SUMMARY:Intro To Website Design On Canva
DESCRIPTION:Learn to design and launch a professional\, one-of-a-kind website with Canva. Use free customizable templates\, easy drag-and-drop tools\, and unlimited context. No experience needed. Please arrive early class will start at 10am. Register at bit.ly/empowerconnecrs
URL:https://empowerhousesa.org/event/intro-to-website-design-on-canva/
LOCATION:200 Donaldson Ave\, San Antonio\, TX 78201\, 200 Donaldson Ave.\, San Antonio\, TX\, 78201\, United States
ATTACH;FMTTYPE=image/jpeg:https://empowerhousesa.org/wp-content/uploads/2025/02/IMG_1338.jpg
END:VEVENT
END:VCALENDAR