BEGIN:VCALENDAR
VERSION:2.0
PRODID:-//Empower House - ECPv6.15.18//NONSGML v1.0//EN
CALSCALE:GREGORIAN
METHOD:PUBLISH
X-WR-CALNAME:Empower House
X-ORIGINAL-URL:https://empowerhousesa.org
X-WR-CALDESC:Events for Empower House
REFRESH-INTERVAL;VALUE=DURATION:PT1H
X-Robots-Tag:noindex
X-PUBLISHED-TTL:PT1H
BEGIN:VTIMEZONE
TZID:America/Chicago
BEGIN:DAYLIGHT
TZOFFSETFROM:-0600
TZOFFSETTO:-0500
TZNAME:CDT
DTSTART:20240310T080000
END:DAYLIGHT
BEGIN:STANDARD
TZOFFSETFROM:-0500
TZOFFSETTO:-0600
TZNAME:CST
DTSTART:20241103T070000
END:STANDARD
BEGIN:DAYLIGHT
TZOFFSETFROM:-0600
TZOFFSETTO:-0500
TZNAME:CDT
DTSTART:20250309T080000
END:DAYLIGHT
BEGIN:STANDARD
TZOFFSETFROM:-0500
TZOFFSETTO:-0600
TZNAME:CST
DTSTART:20251102T070000
END:STANDARD
BEGIN:DAYLIGHT
TZOFFSETFROM:-0600
TZOFFSETTO:-0500
TZNAME:CDT
DTSTART:20260308T080000
END:DAYLIGHT
BEGIN:STANDARD
TZOFFSETFROM:-0500
TZOFFSETTO:-0600
TZNAME:CST
DTSTART:20261101T070000
END:STANDARD
END:VTIMEZONE
BEGIN:VEVENT
DTSTART;TZID=America/Chicago:20250319T080000
DTEND;TZID=America/Chicago:20250319T170000
DTSTAMP:20260425T215850
CREATED:20250225T013454Z
LAST-MODIFIED:20250225T014027Z
UID:10000776-1742371200-1742403600@empowerhousesa.org
SUMMARY:Empower Choice 9 Week Course
DESCRIPTION:🌸 Empower Your Journey to Parenthood! 🌸 \nEmpower House is offering a 9-week course for pregnant individuals to help you prepare for parenthood with confidence\, knowledge\, and support! Whether you’re in your early or second trimester\, this series provides essential tools to guide you through your journey. \n💡 What’s Included? \n✨ Supportive services like clinical mental health support & acupuncture \n✨ Empowering workshops on reproductive health\, contraception\, and STD awareness \n✨ Virtual & in-person class options \n📅 Classes begin March 19\, 2025! \n📍 200 Donaldson Ave\, 78201 \n🔗 Register today at bit.ly/EChoice
URL:https://empowerhousesa.org/event/164428/
LOCATION:200 Donaldson Ave\, San Antonio\, TX 78201\, 200 Donaldson Ave.\, San Antonio\, TX\, 78201\, United States
ATTACH;FMTTYPE=image/png:https://empowerhousesa.org/wp-content/uploads/2025/02/Empower-Choice-Templates-2025.zip-1.png
END:VEVENT
BEGIN:VEVENT
DTSTART;TZID=America/Chicago:20250319T100000
DTEND;TZID=America/Chicago:20250319T111500
DTSTAMP:20260425T215850
CREATED:20250226T182528Z
LAST-MODIFIED:20250226T182528Z
UID:10000780-1742378400-1742382900@empowerhousesa.org
SUMMARY:The Power of Positive Parenting Seminar Series
DESCRIPTION:🌟 The Power of Positive Parenting Seminar Series 🌟 \nJoin us for Virtual Seminar 1: The Power of Positive Parenting and discover practical strategies to strengthen your parenting skills and build positive connections with your child! \n💻 Location: Virtual \nRegister at: bit.ly/EHparents \nThis seminar\, in collaboration with Triple P (Positive Parenting Program)\, will help parents learn effective techniques to support their child’s emotional and behavioral development. \nDon’t miss out on this empowering session! Tag a parent who could benefit. 💚
URL:https://empowerhousesa.org/event/the-power-of-positive-parenting-seminar-series-4/
LOCATION:TX
ATTACH;FMTTYPE=image/png:https://empowerhousesa.org/wp-content/uploads/2025/02/Empower-Parents-Flyers-2025-3.png
END:VEVENT
BEGIN:VEVENT
DTSTART;TZID=America/Chicago:20250319T110000
DTEND;TZID=America/Chicago:20250319T120000
DTSTAMP:20260425T215850
CREATED:20250204T210612Z
LAST-MODIFIED:20250206T221611Z
UID:10000459-1742382000-1742385600@empowerhousesa.org
SUMMARY:Track Your Monthly Expenses & Stay on Budget Workshop
DESCRIPTION:Use a spreadsheet to create a budget\, track your monthly expenses. Create a google spreadsheet in class\, learn to budget based on your current expenses. \nThis workshop is being offered virtually. Register at bit.ly/empowerconnects
URL:https://empowerhousesa.org/event/track-your-monthly-expenses-stay-on-budget-workshop-3/
LOCATION:TX
ATTACH;FMTTYPE=image/jpeg:https://empowerhousesa.org/wp-content/uploads/2025/02/IMG_1335-1.jpg
END:VEVENT
END:VCALENDAR