BEGIN:VCALENDAR
VERSION:2.0
PRODID:-//Empower House - ECPv6.15.18//NONSGML v1.0//EN
CALSCALE:GREGORIAN
METHOD:PUBLISH
X-WR-CALNAME:Empower House
X-ORIGINAL-URL:https://empowerhousesa.org
X-WR-CALDESC:Events for Empower House
REFRESH-INTERVAL;VALUE=DURATION:PT1H
X-Robots-Tag:noindex
X-PUBLISHED-TTL:PT1H
BEGIN:VTIMEZONE
TZID:America/Chicago
BEGIN:DAYLIGHT
TZOFFSETFROM:-0600
TZOFFSETTO:-0500
TZNAME:CDT
DTSTART:20240310T080000
END:DAYLIGHT
BEGIN:STANDARD
TZOFFSETFROM:-0500
TZOFFSETTO:-0600
TZNAME:CST
DTSTART:20241103T070000
END:STANDARD
BEGIN:DAYLIGHT
TZOFFSETFROM:-0600
TZOFFSETTO:-0500
TZNAME:CDT
DTSTART:20250309T080000
END:DAYLIGHT
BEGIN:STANDARD
TZOFFSETFROM:-0500
TZOFFSETTO:-0600
TZNAME:CST
DTSTART:20251102T070000
END:STANDARD
BEGIN:DAYLIGHT
TZOFFSETFROM:-0600
TZOFFSETTO:-0500
TZNAME:CDT
DTSTART:20260308T080000
END:DAYLIGHT
BEGIN:STANDARD
TZOFFSETFROM:-0500
TZOFFSETTO:-0600
TZNAME:CST
DTSTART:20261101T070000
END:STANDARD
END:VTIMEZONE
BEGIN:VEVENT
DTSTART;TZID=America/Chicago:20250214T130000
DTEND;TZID=America/Chicago:20250214T170000
DTSTAMP:20260425T203328
CREATED:20250116T134952Z
LAST-MODIFIED:20250206T221233Z
UID:10000453-1739538000-1739552400@empowerhousesa.org
SUMMARY:Using Job Search Engines - Workshop
DESCRIPTION:Using Job Search Engines (Feb. 14th @ 1pm)  – Did you know that it’s better to apply for a job through the employer’s website rather than on a general job search site? In this hands-on workshop\,\nYou’ll learn how to use job search engines like Indeed to research and evaluate employment opportunities rather than for the applications themselves.\nWe’ll go over tips for understanding job listings and for staying organized during your search.\n\nRegister at: bit.ly/empowerconnects
URL:https://empowerhousesa.org/event/using-job-search-engines-workshop/
LOCATION:200 Donaldson Ave\, San Antonio\, TX 78201\, 200 Donaldson Ave.\, San Antonio\, TX\, 78201\, United States
ATTACH;FMTTYPE=image/jpeg:https://empowerhousesa.org/wp-content/uploads/2025/01/Using-Job-Search-Engines-2.14.2025.jpg
END:VEVENT
END:VCALENDAR