BEGIN:VCALENDAR
VERSION:2.0
PRODID:-//Empower House - ECPv6.15.18//NONSGML v1.0//EN
CALSCALE:GREGORIAN
METHOD:PUBLISH
X-ORIGINAL-URL:https://empowerhousesa.org
X-WR-CALDESC:Events for Empower House
REFRESH-INTERVAL;VALUE=DURATION:PT1H
X-Robots-Tag:noindex
X-PUBLISHED-TTL:PT1H
BEGIN:VTIMEZONE
TZID:America/Chicago
BEGIN:DAYLIGHT
TZOFFSETFROM:-0600
TZOFFSETTO:-0500
TZNAME:CDT
DTSTART:20240310T080000
END:DAYLIGHT
BEGIN:STANDARD
TZOFFSETFROM:-0500
TZOFFSETTO:-0600
TZNAME:CST
DTSTART:20241103T070000
END:STANDARD
BEGIN:DAYLIGHT
TZOFFSETFROM:-0600
TZOFFSETTO:-0500
TZNAME:CDT
DTSTART:20250309T080000
END:DAYLIGHT
BEGIN:STANDARD
TZOFFSETFROM:-0500
TZOFFSETTO:-0600
TZNAME:CST
DTSTART:20251102T070000
END:STANDARD
BEGIN:DAYLIGHT
TZOFFSETFROM:-0600
TZOFFSETTO:-0500
TZNAME:CDT
DTSTART:20260308T080000
END:DAYLIGHT
BEGIN:STANDARD
TZOFFSETFROM:-0500
TZOFFSETTO:-0600
TZNAME:CST
DTSTART:20261101T070000
END:STANDARD
END:VTIMEZONE
BEGIN:VEVENT
DTSTART;TZID=America/Chicago:20250211T100000
DTEND;TZID=America/Chicago:20250211T113000
DTSTAMP:20260425T191159
CREATED:20250116T134729Z
LAST-MODIFIED:20250206T220628Z
UID:10000452-1739268000-1739273400@empowerhousesa.org
SUMMARY:Intro to creating presentations on Canva - Workshop
DESCRIPTION:Intro to creating presentations on Canva (Feb 11th @ 10am) – Design a presentation that blows your audience away with Canva’s stunning collection of high-quality slide templates.\nFree to personalize online so you can collaborate and present with your colleagues.\n\nWhat you will take away from this course\n\n\nExplore the many presentation templates and techniques to edit a presentation\n\n\nLearn to create professional presentations\n\n\nLearn your creativity skills by using Canva templates\n\n\nLearn how to share your projects and get feedback from colleagues.\n\n\nRegister at: bit.ly/empowerconnects
URL:https://empowerhousesa.org/event/intro-to-creating-presentations-on-canva-workshop/
LOCATION:200 Donaldson Ave\, San Antonio\, TX 78201\, 200 Donaldson Ave.\, San Antonio\, TX\, 78201\, United States
ATTACH;FMTTYPE=image/jpeg:https://empowerhousesa.org/wp-content/uploads/2025/01/Intro-to-Canva-Presentations.jpg
END:VEVENT
END:VCALENDAR